BEGIN:VCALENDAR
VERSION:2.0
PRODID:-//MenschenRäume - ECPv6.15.20//NONSGML v1.0//EN
CALSCALE:GREGORIAN
METHOD:PUBLISH
X-WR-CALNAME:MenschenRäume
X-ORIGINAL-URL:https://menschenraeume.de
X-WR-CALDESC:Veranstaltungen für MenschenRäume
REFRESH-INTERVAL;VALUE=DURATION:PT1H
X-Robots-Tag:noindex
X-PUBLISHED-TTL:PT1H
BEGIN:VTIMEZONE
TZID:Europe/Berlin
BEGIN:DAYLIGHT
TZOFFSETFROM:+0100
TZOFFSETTO:+0200
TZNAME:CEST
DTSTART:20270328T010000
END:DAYLIGHT
BEGIN:STANDARD
TZOFFSETFROM:+0200
TZOFFSETTO:+0100
TZNAME:CET
DTSTART:20271031T010000
END:STANDARD
BEGIN:DAYLIGHT
TZOFFSETFROM:+0100
TZOFFSETTO:+0200
TZNAME:CEST
DTSTART:20280326T010000
END:DAYLIGHT
BEGIN:STANDARD
TZOFFSETFROM:+0200
TZOFFSETTO:+0100
TZNAME:CET
DTSTART:20281029T010000
END:STANDARD
BEGIN:DAYLIGHT
TZOFFSETFROM:+0100
TZOFFSETTO:+0200
TZNAME:CEST
DTSTART:20290325T010000
END:DAYLIGHT
BEGIN:STANDARD
TZOFFSETFROM:+0200
TZOFFSETTO:+0100
TZNAME:CET
DTSTART:20291028T010000
END:STANDARD
END:VTIMEZONE
BEGIN:VEVENT
DTSTART;TZID=Europe/Berlin:20280523T140000
DTEND;TZID=Europe/Berlin:20280523T173000
DTSTAMP:20260424T164131
CREATED:20240409T055821Z
LAST-MODIFIED:20251201T062443Z
UID:10002037-1842703200-1842715800@menschenraeume.de
SUMMARY:Begegnungstreff Café Brauchbar
DESCRIPTION:Gespräche und Begegnungen\, Kreativität und Engagement\, Beratung\, Kinderspielecke. \nDi.\, 14.00 bis 17.30 Uhr Kaffee und Kuchen \nMi. und Do.\,  10.00 bis 17.30 Uhr Brezeln\, Tagessuppe\, Kaffee und Kuchen \nMenschenRäume\, Meßkircher Str. 2 (ehemals BiBo)\, Mengen
URL:https://menschenraeume.de/termin/begegnungstreff-cafe-brauchbar/2028-05-23/
LOCATION:Mengen\, Café Brauchbar\, Messkircher Str. 2\, Mengen\, Baden-Württemberg\, 88512\, Deutschland
CATEGORIES:Mengen
END:VEVENT
BEGIN:VEVENT
DTSTART;TZID=Europe/Berlin:20280523T143000
DTEND;TZID=Europe/Berlin:20280523T153000
DTSTAMP:20260424T164131
CREATED:20250317T140349Z
LAST-MODIFIED:20251201T062749Z
UID:10004371-1842705000-1842708600@menschenraeume.de
SUMMARY:TV Mengen 1863 e. V. - Sprechstunde
DESCRIPTION:Ab Mai bietet der TV Mengen im Café Brauchbar eine wöchentliche Sprechstunde für Mitglieder und Interessierte an. \nCafé Brauchbar\, Meßkircher Str. 2 (ehemals BiBo)\, Mengen \nBarrierefrei: Aufzug über Seiteneingang (Praxis Maderner)
URL:https://menschenraeume.de/termin/tv-mengen-sprechstunde-2/2028-05-23/
LOCATION:Mengen\, Café Brauchbar\, Messkircher Str. 2\, Mengen\, Baden-Württemberg\, 88512\, Deutschland
CATEGORIES:Mengen
END:VEVENT
BEGIN:VEVENT
DTSTART;TZID=Europe/Berlin:20280524T100000
DTEND;TZID=Europe/Berlin:20280524T173000
DTSTAMP:20260424T164131
CREATED:20240409T060104Z
LAST-MODIFIED:20251201T062547Z
UID:10002298-1842775200-1842802200@menschenraeume.de
SUMMARY:Begegnungstreff Café Brauchbar
DESCRIPTION:Gespräche und Begegnungen\, Kreativität und Engagement\, Beratung\, Kinderspielecke. \nDi.\, 14.00 bis 17.30 Uhr Kaffee und Kuchen \nMi. und Do.\,  10.00 bis 17.30 Uhr Brezeln\, Tagessuppe\, Kaffee und Kuchen \nMenschenRäume\, Meßkircher Str. 2 (ehemals BiBo)\, Mengen
URL:https://menschenraeume.de/termin/begegnungstreff-cafe-brauchbar-2/2028-05-24/
LOCATION:Mengen\, Café Brauchbar\, Messkircher Str. 2\, Mengen\, Baden-Württemberg\, 88512\, Deutschland
CATEGORIES:Mengen
END:VEVENT
BEGIN:VEVENT
DTSTART;TZID=Europe/Berlin:20280524T101500
DTEND;TZID=Europe/Berlin:20280524T114500
DTSTAMP:20260424T164131
CREATED:20240924T150032Z
LAST-MODIFIED:20251201T061928Z
UID:10003628-1842776100-1842781500@menschenraeume.de
SUMMARY:Sprach-Café
DESCRIPTION:Das Sprach-Café ist kostenlos\, kann ohne Voranmeldung besucht werden und bietet einen leichten Einstieg in die deutsche Sprache an.
URL:https://menschenraeume.de/termin/sprach-cafe/2028-05-24/
LOCATION:Mengen\, Café Brauchbar\, Messkircher Str. 2\, Mengen\, Baden-Württemberg\, 88512\, Deutschland
CATEGORIES:Mengen
END:VEVENT
BEGIN:VEVENT
DTSTART;TZID=Europe/Berlin:20280525T100000
DTEND;TZID=Europe/Berlin:20280525T173000
DTSTAMP:20260424T164131
CREATED:20240409T060143Z
LAST-MODIFIED:20251201T062630Z
UID:10002558-1842861600-1842888600@menschenraeume.de
SUMMARY:Begegnungstreff Café Brauchbar
DESCRIPTION:Gespräche und Begegnungen\, Kreativität und Engagement\, Beratung\, Kinderspielecke. \nDi.\, 14.00 bis 17.30 Uhr Kaffee und Kuchen \nMi. und Do.\,  10.00 bis 17.30 Uhr Brezeln\, Tagessuppe\, Kaffee und Kuchen \nMenschenRäume\, Meßkircher Str. 2 (ehemals BiBo)\, Mengen
URL:https://menschenraeume.de/termin/begegnungstreff-cafe-brauchbar-3/2028-05-25/
LOCATION:Mengen\, Café Brauchbar\, Messkircher Str. 2\, Mengen\, Baden-Württemberg\, 88512\, Deutschland
CATEGORIES:Mengen
END:VEVENT
BEGIN:VEVENT
DTSTART;TZID=Europe/Berlin:20280526T143000
DTEND;TZID=Europe/Berlin:20280526T180000
DTSTAMP:20260424T164131
CREATED:20221206T182342Z
LAST-MODIFIED:20260326T144840Z
UID:10000460-1842964200-1842976800@menschenraeume.de
SUMMARY:Offener Kaffeetreff Blochingen
DESCRIPTION:Genießt einen gemütlichen Nachmittag bei Kaffee\, Tee und selbstgebackenem Kuchen. Für alle Spielefans haben wir eine große Auswahl an Gesellschaftsspielen anzubieten. \nMehrgenerationentreff Blochingen\, Greutleweg 24\, 88512 Blochingen
URL:https://menschenraeume.de/termin/offener-kaffeetreff-blochingen-30052023/2028-05-26/
LOCATION:Blochingen\, Mehrgenerationentreff\, Greutleweg 24\, Blochingen\, 88512
CATEGORIES:Blochingen
END:VEVENT
BEGIN:VEVENT
DTSTART;TZID=Europe/Berlin:20280530T140000
DTEND;TZID=Europe/Berlin:20280530T173000
DTSTAMP:20260424T164131
CREATED:20240409T055821Z
LAST-MODIFIED:20251201T062443Z
UID:10002038-1843308000-1843320600@menschenraeume.de
SUMMARY:Begegnungstreff Café Brauchbar
DESCRIPTION:Gespräche und Begegnungen\, Kreativität und Engagement\, Beratung\, Kinderspielecke. \nDi.\, 14.00 bis 17.30 Uhr Kaffee und Kuchen \nMi. und Do.\,  10.00 bis 17.30 Uhr Brezeln\, Tagessuppe\, Kaffee und Kuchen \nMenschenRäume\, Meßkircher Str. 2 (ehemals BiBo)\, Mengen
URL:https://menschenraeume.de/termin/begegnungstreff-cafe-brauchbar/2028-05-30/
LOCATION:Mengen\, Café Brauchbar\, Messkircher Str. 2\, Mengen\, Baden-Württemberg\, 88512\, Deutschland
CATEGORIES:Mengen
END:VEVENT
BEGIN:VEVENT
DTSTART;TZID=Europe/Berlin:20280530T143000
DTEND;TZID=Europe/Berlin:20280530T153000
DTSTAMP:20260424T164131
CREATED:20250317T140349Z
LAST-MODIFIED:20251201T062749Z
UID:10004372-1843309800-1843313400@menschenraeume.de
SUMMARY:TV Mengen 1863 e. V. - Sprechstunde
DESCRIPTION:Ab Mai bietet der TV Mengen im Café Brauchbar eine wöchentliche Sprechstunde für Mitglieder und Interessierte an. \nCafé Brauchbar\, Meßkircher Str. 2 (ehemals BiBo)\, Mengen \nBarrierefrei: Aufzug über Seiteneingang (Praxis Maderner)
URL:https://menschenraeume.de/termin/tv-mengen-sprechstunde-2/2028-05-30/
LOCATION:Mengen\, Café Brauchbar\, Messkircher Str. 2\, Mengen\, Baden-Württemberg\, 88512\, Deutschland
CATEGORIES:Mengen
END:VEVENT
BEGIN:VEVENT
DTSTART;TZID=Europe/Berlin:20280531T100000
DTEND;TZID=Europe/Berlin:20280531T173000
DTSTAMP:20260424T164132
CREATED:20240409T060104Z
LAST-MODIFIED:20251201T062547Z
UID:10002299-1843380000-1843407000@menschenraeume.de
SUMMARY:Begegnungstreff Café Brauchbar
DESCRIPTION:Gespräche und Begegnungen\, Kreativität und Engagement\, Beratung\, Kinderspielecke. \nDi.\, 14.00 bis 17.30 Uhr Kaffee und Kuchen \nMi. und Do.\,  10.00 bis 17.30 Uhr Brezeln\, Tagessuppe\, Kaffee und Kuchen \nMenschenRäume\, Meßkircher Str. 2 (ehemals BiBo)\, Mengen
URL:https://menschenraeume.de/termin/begegnungstreff-cafe-brauchbar-2/2028-05-31/
LOCATION:Mengen\, Café Brauchbar\, Messkircher Str. 2\, Mengen\, Baden-Württemberg\, 88512\, Deutschland
CATEGORIES:Mengen
END:VEVENT
BEGIN:VEVENT
DTSTART;TZID=Europe/Berlin:20280531T101500
DTEND;TZID=Europe/Berlin:20280531T114500
DTSTAMP:20260424T164132
CREATED:20240924T150032Z
LAST-MODIFIED:20251201T061928Z
UID:10003629-1843380900-1843386300@menschenraeume.de
SUMMARY:Sprach-Café
DESCRIPTION:Das Sprach-Café ist kostenlos\, kann ohne Voranmeldung besucht werden und bietet einen leichten Einstieg in die deutsche Sprache an.
URL:https://menschenraeume.de/termin/sprach-cafe/2028-05-31/
LOCATION:Mengen\, Café Brauchbar\, Messkircher Str. 2\, Mengen\, Baden-Württemberg\, 88512\, Deutschland
CATEGORIES:Mengen
END:VEVENT
BEGIN:VEVENT
DTSTART;TZID=Europe/Berlin:20280601T100000
DTEND;TZID=Europe/Berlin:20280601T173000
DTSTAMP:20260424T164132
CREATED:20240409T060143Z
LAST-MODIFIED:20251201T062630Z
UID:10002559-1843466400-1843493400@menschenraeume.de
SUMMARY:Begegnungstreff Café Brauchbar
DESCRIPTION:Gespräche und Begegnungen\, Kreativität und Engagement\, Beratung\, Kinderspielecke. \nDi.\, 14.00 bis 17.30 Uhr Kaffee und Kuchen \nMi. und Do.\,  10.00 bis 17.30 Uhr Brezeln\, Tagessuppe\, Kaffee und Kuchen \nMenschenRäume\, Meßkircher Str. 2 (ehemals BiBo)\, Mengen
URL:https://menschenraeume.de/termin/begegnungstreff-cafe-brauchbar-3/2028-06-01/
LOCATION:Mengen\, Café Brauchbar\, Messkircher Str. 2\, Mengen\, Baden-Württemberg\, 88512\, Deutschland
CATEGORIES:Mengen
END:VEVENT
BEGIN:VEVENT
DTSTART;TZID=Europe/Berlin:20280602T143000
DTEND;TZID=Europe/Berlin:20280602T180000
DTSTAMP:20260424T164132
CREATED:20221206T182342Z
LAST-MODIFIED:20260326T144840Z
UID:10000461-1843569000-1843581600@menschenraeume.de
SUMMARY:Offener Kaffeetreff Blochingen
DESCRIPTION:Genießt einen gemütlichen Nachmittag bei Kaffee\, Tee und selbstgebackenem Kuchen. Für alle Spielefans haben wir eine große Auswahl an Gesellschaftsspielen anzubieten. \nMehrgenerationentreff Blochingen\, Greutleweg 24\, 88512 Blochingen
URL:https://menschenraeume.de/termin/offener-kaffeetreff-blochingen-30052023/2028-06-02/
LOCATION:Blochingen\, Mehrgenerationentreff\, Greutleweg 24\, Blochingen\, 88512
CATEGORIES:Blochingen
END:VEVENT
BEGIN:VEVENT
DTSTART;TZID=Europe/Berlin:20280606T140000
DTEND;TZID=Europe/Berlin:20280606T173000
DTSTAMP:20260424T164132
CREATED:20240409T055821Z
LAST-MODIFIED:20251201T062443Z
UID:10002039-1843912800-1843925400@menschenraeume.de
SUMMARY:Begegnungstreff Café Brauchbar
DESCRIPTION:Gespräche und Begegnungen\, Kreativität und Engagement\, Beratung\, Kinderspielecke. \nDi.\, 14.00 bis 17.30 Uhr Kaffee und Kuchen \nMi. und Do.\,  10.00 bis 17.30 Uhr Brezeln\, Tagessuppe\, Kaffee und Kuchen \nMenschenRäume\, Meßkircher Str. 2 (ehemals BiBo)\, Mengen
URL:https://menschenraeume.de/termin/begegnungstreff-cafe-brauchbar/2028-06-06/
LOCATION:Mengen\, Café Brauchbar\, Messkircher Str. 2\, Mengen\, Baden-Württemberg\, 88512\, Deutschland
CATEGORIES:Mengen
END:VEVENT
BEGIN:VEVENT
DTSTART;TZID=Europe/Berlin:20280606T143000
DTEND;TZID=Europe/Berlin:20280606T153000
DTSTAMP:20260424T164132
CREATED:20250317T140349Z
LAST-MODIFIED:20251201T062749Z
UID:10004373-1843914600-1843918200@menschenraeume.de
SUMMARY:TV Mengen 1863 e. V. - Sprechstunde
DESCRIPTION:Ab Mai bietet der TV Mengen im Café Brauchbar eine wöchentliche Sprechstunde für Mitglieder und Interessierte an. \nCafé Brauchbar\, Meßkircher Str. 2 (ehemals BiBo)\, Mengen \nBarrierefrei: Aufzug über Seiteneingang (Praxis Maderner)
URL:https://menschenraeume.de/termin/tv-mengen-sprechstunde-2/2028-06-06/
LOCATION:Mengen\, Café Brauchbar\, Messkircher Str. 2\, Mengen\, Baden-Württemberg\, 88512\, Deutschland
CATEGORIES:Mengen
END:VEVENT
BEGIN:VEVENT
DTSTART;TZID=Europe/Berlin:20280607T100000
DTEND;TZID=Europe/Berlin:20280607T173000
DTSTAMP:20260424T164132
CREATED:20240409T060104Z
LAST-MODIFIED:20251201T062547Z
UID:10002300-1843984800-1844011800@menschenraeume.de
SUMMARY:Begegnungstreff Café Brauchbar
DESCRIPTION:Gespräche und Begegnungen\, Kreativität und Engagement\, Beratung\, Kinderspielecke. \nDi.\, 14.00 bis 17.30 Uhr Kaffee und Kuchen \nMi. und Do.\,  10.00 bis 17.30 Uhr Brezeln\, Tagessuppe\, Kaffee und Kuchen \nMenschenRäume\, Meßkircher Str. 2 (ehemals BiBo)\, Mengen
URL:https://menschenraeume.de/termin/begegnungstreff-cafe-brauchbar-2/2028-06-07/
LOCATION:Mengen\, Café Brauchbar\, Messkircher Str. 2\, Mengen\, Baden-Württemberg\, 88512\, Deutschland
CATEGORIES:Mengen
END:VEVENT
BEGIN:VEVENT
DTSTART;TZID=Europe/Berlin:20280607T101500
DTEND;TZID=Europe/Berlin:20280607T114500
DTSTAMP:20260424T164132
CREATED:20240924T150032Z
LAST-MODIFIED:20251201T061928Z
UID:10003630-1843985700-1843991100@menschenraeume.de
SUMMARY:Sprach-Café
DESCRIPTION:Das Sprach-Café ist kostenlos\, kann ohne Voranmeldung besucht werden und bietet einen leichten Einstieg in die deutsche Sprache an.
URL:https://menschenraeume.de/termin/sprach-cafe/2028-06-07/
LOCATION:Mengen\, Café Brauchbar\, Messkircher Str. 2\, Mengen\, Baden-Württemberg\, 88512\, Deutschland
CATEGORIES:Mengen
END:VEVENT
BEGIN:VEVENT
DTSTART;TZID=Europe/Berlin:20280608T100000
DTEND;TZID=Europe/Berlin:20280608T173000
DTSTAMP:20260424T164132
CREATED:20240409T060143Z
LAST-MODIFIED:20251201T062630Z
UID:10002560-1844071200-1844098200@menschenraeume.de
SUMMARY:Begegnungstreff Café Brauchbar
DESCRIPTION:Gespräche und Begegnungen\, Kreativität und Engagement\, Beratung\, Kinderspielecke. \nDi.\, 14.00 bis 17.30 Uhr Kaffee und Kuchen \nMi. und Do.\,  10.00 bis 17.30 Uhr Brezeln\, Tagessuppe\, Kaffee und Kuchen \nMenschenRäume\, Meßkircher Str. 2 (ehemals BiBo)\, Mengen
URL:https://menschenraeume.de/termin/begegnungstreff-cafe-brauchbar-3/2028-06-08/
LOCATION:Mengen\, Café Brauchbar\, Messkircher Str. 2\, Mengen\, Baden-Württemberg\, 88512\, Deutschland
CATEGORIES:Mengen
END:VEVENT
BEGIN:VEVENT
DTSTART;TZID=Europe/Berlin:20280609T143000
DTEND;TZID=Europe/Berlin:20280609T180000
DTSTAMP:20260424T164132
CREATED:20221206T182342Z
LAST-MODIFIED:20260326T144840Z
UID:10000462-1844173800-1844186400@menschenraeume.de
SUMMARY:Offener Kaffeetreff Blochingen
DESCRIPTION:Genießt einen gemütlichen Nachmittag bei Kaffee\, Tee und selbstgebackenem Kuchen. Für alle Spielefans haben wir eine große Auswahl an Gesellschaftsspielen anzubieten. \nMehrgenerationentreff Blochingen\, Greutleweg 24\, 88512 Blochingen
URL:https://menschenraeume.de/termin/offener-kaffeetreff-blochingen-30052023/2028-06-09/
LOCATION:Blochingen\, Mehrgenerationentreff\, Greutleweg 24\, Blochingen\, 88512
CATEGORIES:Blochingen
END:VEVENT
BEGIN:VEVENT
DTSTART;TZID=Europe/Berlin:20280613T140000
DTEND;TZID=Europe/Berlin:20280613T173000
DTSTAMP:20260424T164132
CREATED:20240409T055821Z
LAST-MODIFIED:20251201T062443Z
UID:10002040-1844517600-1844530200@menschenraeume.de
SUMMARY:Begegnungstreff Café Brauchbar
DESCRIPTION:Gespräche und Begegnungen\, Kreativität und Engagement\, Beratung\, Kinderspielecke. \nDi.\, 14.00 bis 17.30 Uhr Kaffee und Kuchen \nMi. und Do.\,  10.00 bis 17.30 Uhr Brezeln\, Tagessuppe\, Kaffee und Kuchen \nMenschenRäume\, Meßkircher Str. 2 (ehemals BiBo)\, Mengen
URL:https://menschenraeume.de/termin/begegnungstreff-cafe-brauchbar/2028-06-13/
LOCATION:Mengen\, Café Brauchbar\, Messkircher Str. 2\, Mengen\, Baden-Württemberg\, 88512\, Deutschland
CATEGORIES:Mengen
END:VEVENT
BEGIN:VEVENT
DTSTART;TZID=Europe/Berlin:20280613T143000
DTEND;TZID=Europe/Berlin:20280613T153000
DTSTAMP:20260424T164132
CREATED:20250317T140349Z
LAST-MODIFIED:20251201T062749Z
UID:10004374-1844519400-1844523000@menschenraeume.de
SUMMARY:TV Mengen 1863 e. V. - Sprechstunde
DESCRIPTION:Ab Mai bietet der TV Mengen im Café Brauchbar eine wöchentliche Sprechstunde für Mitglieder und Interessierte an. \nCafé Brauchbar\, Meßkircher Str. 2 (ehemals BiBo)\, Mengen \nBarrierefrei: Aufzug über Seiteneingang (Praxis Maderner)
URL:https://menschenraeume.de/termin/tv-mengen-sprechstunde-2/2028-06-13/
LOCATION:Mengen\, Café Brauchbar\, Messkircher Str. 2\, Mengen\, Baden-Württemberg\, 88512\, Deutschland
CATEGORIES:Mengen
END:VEVENT
BEGIN:VEVENT
DTSTART;TZID=Europe/Berlin:20280614T100000
DTEND;TZID=Europe/Berlin:20280614T173000
DTSTAMP:20260424T164132
CREATED:20240409T060104Z
LAST-MODIFIED:20251201T062547Z
UID:10002301-1844589600-1844616600@menschenraeume.de
SUMMARY:Begegnungstreff Café Brauchbar
DESCRIPTION:Gespräche und Begegnungen\, Kreativität und Engagement\, Beratung\, Kinderspielecke. \nDi.\, 14.00 bis 17.30 Uhr Kaffee und Kuchen \nMi. und Do.\,  10.00 bis 17.30 Uhr Brezeln\, Tagessuppe\, Kaffee und Kuchen \nMenschenRäume\, Meßkircher Str. 2 (ehemals BiBo)\, Mengen
URL:https://menschenraeume.de/termin/begegnungstreff-cafe-brauchbar-2/2028-06-14/
LOCATION:Mengen\, Café Brauchbar\, Messkircher Str. 2\, Mengen\, Baden-Württemberg\, 88512\, Deutschland
CATEGORIES:Mengen
END:VEVENT
BEGIN:VEVENT
DTSTART;TZID=Europe/Berlin:20280614T101500
DTEND;TZID=Europe/Berlin:20280614T114500
DTSTAMP:20260424T164132
CREATED:20240924T150032Z
LAST-MODIFIED:20251201T061928Z
UID:10003631-1844590500-1844595900@menschenraeume.de
SUMMARY:Sprach-Café
DESCRIPTION:Das Sprach-Café ist kostenlos\, kann ohne Voranmeldung besucht werden und bietet einen leichten Einstieg in die deutsche Sprache an.
URL:https://menschenraeume.de/termin/sprach-cafe/2028-06-14/
LOCATION:Mengen\, Café Brauchbar\, Messkircher Str. 2\, Mengen\, Baden-Württemberg\, 88512\, Deutschland
CATEGORIES:Mengen
END:VEVENT
BEGIN:VEVENT
DTSTART;TZID=Europe/Berlin:20280615T100000
DTEND;TZID=Europe/Berlin:20280615T173000
DTSTAMP:20260424T164132
CREATED:20240409T060143Z
LAST-MODIFIED:20251201T062630Z
UID:10002561-1844676000-1844703000@menschenraeume.de
SUMMARY:Begegnungstreff Café Brauchbar
DESCRIPTION:Gespräche und Begegnungen\, Kreativität und Engagement\, Beratung\, Kinderspielecke. \nDi.\, 14.00 bis 17.30 Uhr Kaffee und Kuchen \nMi. und Do.\,  10.00 bis 17.30 Uhr Brezeln\, Tagessuppe\, Kaffee und Kuchen \nMenschenRäume\, Meßkircher Str. 2 (ehemals BiBo)\, Mengen
URL:https://menschenraeume.de/termin/begegnungstreff-cafe-brauchbar-3/2028-06-15/
LOCATION:Mengen\, Café Brauchbar\, Messkircher Str. 2\, Mengen\, Baden-Württemberg\, 88512\, Deutschland
CATEGORIES:Mengen
END:VEVENT
BEGIN:VEVENT
DTSTART;TZID=Europe/Berlin:20280616T143000
DTEND;TZID=Europe/Berlin:20280616T180000
DTSTAMP:20260424T164132
CREATED:20221206T182342Z
LAST-MODIFIED:20260326T144840Z
UID:10000463-1844778600-1844791200@menschenraeume.de
SUMMARY:Offener Kaffeetreff Blochingen
DESCRIPTION:Genießt einen gemütlichen Nachmittag bei Kaffee\, Tee und selbstgebackenem Kuchen. Für alle Spielefans haben wir eine große Auswahl an Gesellschaftsspielen anzubieten. \nMehrgenerationentreff Blochingen\, Greutleweg 24\, 88512 Blochingen
URL:https://menschenraeume.de/termin/offener-kaffeetreff-blochingen-30052023/2028-06-16/
LOCATION:Blochingen\, Mehrgenerationentreff\, Greutleweg 24\, Blochingen\, 88512
CATEGORIES:Blochingen
END:VEVENT
BEGIN:VEVENT
DTSTART;TZID=Europe/Berlin:20280620T140000
DTEND;TZID=Europe/Berlin:20280620T173000
DTSTAMP:20260424T164132
CREATED:20240409T055821Z
LAST-MODIFIED:20251201T062443Z
UID:10002041-1845122400-1845135000@menschenraeume.de
SUMMARY:Begegnungstreff Café Brauchbar
DESCRIPTION:Gespräche und Begegnungen\, Kreativität und Engagement\, Beratung\, Kinderspielecke. \nDi.\, 14.00 bis 17.30 Uhr Kaffee und Kuchen \nMi. und Do.\,  10.00 bis 17.30 Uhr Brezeln\, Tagessuppe\, Kaffee und Kuchen \nMenschenRäume\, Meßkircher Str. 2 (ehemals BiBo)\, Mengen
URL:https://menschenraeume.de/termin/begegnungstreff-cafe-brauchbar/2028-06-20/
LOCATION:Mengen\, Café Brauchbar\, Messkircher Str. 2\, Mengen\, Baden-Württemberg\, 88512\, Deutschland
CATEGORIES:Mengen
END:VEVENT
BEGIN:VEVENT
DTSTART;TZID=Europe/Berlin:20280620T143000
DTEND;TZID=Europe/Berlin:20280620T153000
DTSTAMP:20260424T164132
CREATED:20250317T140349Z
LAST-MODIFIED:20251201T062749Z
UID:10004375-1845124200-1845127800@menschenraeume.de
SUMMARY:TV Mengen 1863 e. V. - Sprechstunde
DESCRIPTION:Ab Mai bietet der TV Mengen im Café Brauchbar eine wöchentliche Sprechstunde für Mitglieder und Interessierte an. \nCafé Brauchbar\, Meßkircher Str. 2 (ehemals BiBo)\, Mengen \nBarrierefrei: Aufzug über Seiteneingang (Praxis Maderner)
URL:https://menschenraeume.de/termin/tv-mengen-sprechstunde-2/2028-06-20/
LOCATION:Mengen\, Café Brauchbar\, Messkircher Str. 2\, Mengen\, Baden-Württemberg\, 88512\, Deutschland
CATEGORIES:Mengen
END:VEVENT
BEGIN:VEVENT
DTSTART;TZID=Europe/Berlin:20280621T100000
DTEND;TZID=Europe/Berlin:20280621T173000
DTSTAMP:20260424T164132
CREATED:20240409T060104Z
LAST-MODIFIED:20251201T062547Z
UID:10002302-1845194400-1845221400@menschenraeume.de
SUMMARY:Begegnungstreff Café Brauchbar
DESCRIPTION:Gespräche und Begegnungen\, Kreativität und Engagement\, Beratung\, Kinderspielecke. \nDi.\, 14.00 bis 17.30 Uhr Kaffee und Kuchen \nMi. und Do.\,  10.00 bis 17.30 Uhr Brezeln\, Tagessuppe\, Kaffee und Kuchen \nMenschenRäume\, Meßkircher Str. 2 (ehemals BiBo)\, Mengen
URL:https://menschenraeume.de/termin/begegnungstreff-cafe-brauchbar-2/2028-06-21/
LOCATION:Mengen\, Café Brauchbar\, Messkircher Str. 2\, Mengen\, Baden-Württemberg\, 88512\, Deutschland
CATEGORIES:Mengen
END:VEVENT
BEGIN:VEVENT
DTSTART;TZID=Europe/Berlin:20280621T101500
DTEND;TZID=Europe/Berlin:20280621T114500
DTSTAMP:20260424T164132
CREATED:20240924T150032Z
LAST-MODIFIED:20251201T061928Z
UID:10003632-1845195300-1845200700@menschenraeume.de
SUMMARY:Sprach-Café
DESCRIPTION:Das Sprach-Café ist kostenlos\, kann ohne Voranmeldung besucht werden und bietet einen leichten Einstieg in die deutsche Sprache an.
URL:https://menschenraeume.de/termin/sprach-cafe/2028-06-21/
LOCATION:Mengen\, Café Brauchbar\, Messkircher Str. 2\, Mengen\, Baden-Württemberg\, 88512\, Deutschland
CATEGORIES:Mengen
END:VEVENT
BEGIN:VEVENT
DTSTART;TZID=Europe/Berlin:20280622T100000
DTEND;TZID=Europe/Berlin:20280622T173000
DTSTAMP:20260424T164132
CREATED:20240409T060143Z
LAST-MODIFIED:20251201T062630Z
UID:10002562-1845280800-1845307800@menschenraeume.de
SUMMARY:Begegnungstreff Café Brauchbar
DESCRIPTION:Gespräche und Begegnungen\, Kreativität und Engagement\, Beratung\, Kinderspielecke. \nDi.\, 14.00 bis 17.30 Uhr Kaffee und Kuchen \nMi. und Do.\,  10.00 bis 17.30 Uhr Brezeln\, Tagessuppe\, Kaffee und Kuchen \nMenschenRäume\, Meßkircher Str. 2 (ehemals BiBo)\, Mengen
URL:https://menschenraeume.de/termin/begegnungstreff-cafe-brauchbar-3/2028-06-22/
LOCATION:Mengen\, Café Brauchbar\, Messkircher Str. 2\, Mengen\, Baden-Württemberg\, 88512\, Deutschland
CATEGORIES:Mengen
END:VEVENT
BEGIN:VEVENT
DTSTART;TZID=Europe/Berlin:20280623T143000
DTEND;TZID=Europe/Berlin:20280623T180000
DTSTAMP:20260424T164132
CREATED:20221206T182342Z
LAST-MODIFIED:20260326T144840Z
UID:10000464-1845383400-1845396000@menschenraeume.de
SUMMARY:Offener Kaffeetreff Blochingen
DESCRIPTION:Genießt einen gemütlichen Nachmittag bei Kaffee\, Tee und selbstgebackenem Kuchen. Für alle Spielefans haben wir eine große Auswahl an Gesellschaftsspielen anzubieten. \nMehrgenerationentreff Blochingen\, Greutleweg 24\, 88512 Blochingen
URL:https://menschenraeume.de/termin/offener-kaffeetreff-blochingen-30052023/2028-06-23/
LOCATION:Blochingen\, Mehrgenerationentreff\, Greutleweg 24\, Blochingen\, 88512
CATEGORIES:Blochingen
END:VEVENT
END:VCALENDAR