BEGIN:VCALENDAR
VERSION:2.0
PRODID:-//MenschenRäume - ECPv6.15.20//NONSGML v1.0//EN
CALSCALE:GREGORIAN
METHOD:PUBLISH
X-ORIGINAL-URL:https://menschenraeume.de
X-WR-CALDESC:Veranstaltungen für MenschenRäume
REFRESH-INTERVAL;VALUE=DURATION:PT1H
X-Robots-Tag:noindex
X-PUBLISHED-TTL:PT1H
BEGIN:VTIMEZONE
TZID:Europe/Berlin
BEGIN:DAYLIGHT
TZOFFSETFROM:+0100
TZOFFSETTO:+0200
TZNAME:CEST
DTSTART:20270328T010000
END:DAYLIGHT
BEGIN:STANDARD
TZOFFSETFROM:+0200
TZOFFSETTO:+0100
TZNAME:CET
DTSTART:20271031T010000
END:STANDARD
BEGIN:DAYLIGHT
TZOFFSETFROM:+0100
TZOFFSETTO:+0200
TZNAME:CEST
DTSTART:20280326T010000
END:DAYLIGHT
BEGIN:STANDARD
TZOFFSETFROM:+0200
TZOFFSETTO:+0100
TZNAME:CET
DTSTART:20281029T010000
END:STANDARD
BEGIN:DAYLIGHT
TZOFFSETFROM:+0100
TZOFFSETTO:+0200
TZNAME:CEST
DTSTART:20290325T010000
END:DAYLIGHT
BEGIN:STANDARD
TZOFFSETFROM:+0200
TZOFFSETTO:+0100
TZNAME:CET
DTSTART:20291028T010000
END:STANDARD
END:VTIMEZONE
BEGIN:VEVENT
DTSTART;TZID=Europe/Berlin:20280229T140000
DTEND;TZID=Europe/Berlin:20280229T173000
DTSTAMP:20260424T060652
CREATED:20240409T055821Z
LAST-MODIFIED:20251201T062443Z
UID:10002025-1835445600-1835458200@menschenraeume.de
SUMMARY:Begegnungstreff Café Brauchbar
DESCRIPTION:Gespräche und Begegnungen\, Kreativität und Engagement\, Beratung\, Kinderspielecke. \nDi.\, 14.00 bis 17.30 Uhr Kaffee und Kuchen \nMi. und Do.\,  10.00 bis 17.30 Uhr Brezeln\, Tagessuppe\, Kaffee und Kuchen \nMenschenRäume\, Meßkircher Str. 2 (ehemals BiBo)\, Mengen
URL:https://menschenraeume.de/termin/begegnungstreff-cafe-brauchbar/2028-02-29/
LOCATION:Mengen\, Café Brauchbar\, Messkircher Str. 2\, Mengen\, Baden-Württemberg\, 88512\, Deutschland
CATEGORIES:Mengen
END:VEVENT
BEGIN:VEVENT
DTSTART;TZID=Europe/Berlin:20280229T143000
DTEND;TZID=Europe/Berlin:20280229T153000
DTSTAMP:20260424T060652
CREATED:20250317T140349Z
LAST-MODIFIED:20251201T062749Z
UID:10004359-1835447400-1835451000@menschenraeume.de
SUMMARY:TV Mengen 1863 e. V. - Sprechstunde
DESCRIPTION:Ab Mai bietet der TV Mengen im Café Brauchbar eine wöchentliche Sprechstunde für Mitglieder und Interessierte an. \nCafé Brauchbar\, Meßkircher Str. 2 (ehemals BiBo)\, Mengen \nBarrierefrei: Aufzug über Seiteneingang (Praxis Maderner)
URL:https://menschenraeume.de/termin/tv-mengen-sprechstunde-2/2028-02-29/
LOCATION:Mengen\, Café Brauchbar\, Messkircher Str. 2\, Mengen\, Baden-Württemberg\, 88512\, Deutschland
CATEGORIES:Mengen
END:VEVENT
BEGIN:VEVENT
DTSTART;TZID=Europe/Berlin:20280301T100000
DTEND;TZID=Europe/Berlin:20280301T173000
DTSTAMP:20260424T060652
CREATED:20240409T060104Z
LAST-MODIFIED:20251201T062547Z
UID:10002286-1835517600-1835544600@menschenraeume.de
SUMMARY:Begegnungstreff Café Brauchbar
DESCRIPTION:Gespräche und Begegnungen\, Kreativität und Engagement\, Beratung\, Kinderspielecke. \nDi.\, 14.00 bis 17.30 Uhr Kaffee und Kuchen \nMi. und Do.\,  10.00 bis 17.30 Uhr Brezeln\, Tagessuppe\, Kaffee und Kuchen \nMenschenRäume\, Meßkircher Str. 2 (ehemals BiBo)\, Mengen
URL:https://menschenraeume.de/termin/begegnungstreff-cafe-brauchbar-2/2028-03-01/
LOCATION:Mengen\, Café Brauchbar\, Messkircher Str. 2\, Mengen\, Baden-Württemberg\, 88512\, Deutschland
CATEGORIES:Mengen
END:VEVENT
BEGIN:VEVENT
DTSTART;TZID=Europe/Berlin:20280301T101500
DTEND;TZID=Europe/Berlin:20280301T114500
DTSTAMP:20260424T060652
CREATED:20240924T150032Z
LAST-MODIFIED:20251201T061928Z
UID:10003616-1835518500-1835523900@menschenraeume.de
SUMMARY:Sprach-Café
DESCRIPTION:Das Sprach-Café ist kostenlos\, kann ohne Voranmeldung besucht werden und bietet einen leichten Einstieg in die deutsche Sprache an.
URL:https://menschenraeume.de/termin/sprach-cafe/2028-03-01/
LOCATION:Mengen\, Café Brauchbar\, Messkircher Str. 2\, Mengen\, Baden-Württemberg\, 88512\, Deutschland
CATEGORIES:Mengen
END:VEVENT
BEGIN:VEVENT
DTSTART;TZID=Europe/Berlin:20280302T100000
DTEND;TZID=Europe/Berlin:20280302T173000
DTSTAMP:20260424T060652
CREATED:20240409T060143Z
LAST-MODIFIED:20251201T062630Z
UID:10002546-1835604000-1835631000@menschenraeume.de
SUMMARY:Begegnungstreff Café Brauchbar
DESCRIPTION:Gespräche und Begegnungen\, Kreativität und Engagement\, Beratung\, Kinderspielecke. \nDi.\, 14.00 bis 17.30 Uhr Kaffee und Kuchen \nMi. und Do.\,  10.00 bis 17.30 Uhr Brezeln\, Tagessuppe\, Kaffee und Kuchen \nMenschenRäume\, Meßkircher Str. 2 (ehemals BiBo)\, Mengen
URL:https://menschenraeume.de/termin/begegnungstreff-cafe-brauchbar-3/2028-03-02/
LOCATION:Mengen\, Café Brauchbar\, Messkircher Str. 2\, Mengen\, Baden-Württemberg\, 88512\, Deutschland
CATEGORIES:Mengen
END:VEVENT
BEGIN:VEVENT
DTSTART;TZID=Europe/Berlin:20280303T143000
DTEND;TZID=Europe/Berlin:20280303T180000
DTSTAMP:20260424T060652
CREATED:20221206T182342Z
LAST-MODIFIED:20260326T144840Z
UID:10000448-1835706600-1835719200@menschenraeume.de
SUMMARY:Offener Kaffeetreff Blochingen
DESCRIPTION:Genießt einen gemütlichen Nachmittag bei Kaffee\, Tee und selbstgebackenem Kuchen. Für alle Spielefans haben wir eine große Auswahl an Gesellschaftsspielen anzubieten. \nMehrgenerationentreff Blochingen\, Greutleweg 24\, 88512 Blochingen
URL:https://menschenraeume.de/termin/offener-kaffeetreff-blochingen-30052023/2028-03-03/
LOCATION:Blochingen\, Mehrgenerationentreff\, Greutleweg 24\, Blochingen\, 88512
CATEGORIES:Blochingen
END:VEVENT
BEGIN:VEVENT
DTSTART;TZID=Europe/Berlin:20280307T140000
DTEND;TZID=Europe/Berlin:20280307T173000
DTSTAMP:20260424T060652
CREATED:20240409T055821Z
LAST-MODIFIED:20251201T062443Z
UID:10002026-1836050400-1836063000@menschenraeume.de
SUMMARY:Begegnungstreff Café Brauchbar
DESCRIPTION:Gespräche und Begegnungen\, Kreativität und Engagement\, Beratung\, Kinderspielecke. \nDi.\, 14.00 bis 17.30 Uhr Kaffee und Kuchen \nMi. und Do.\,  10.00 bis 17.30 Uhr Brezeln\, Tagessuppe\, Kaffee und Kuchen \nMenschenRäume\, Meßkircher Str. 2 (ehemals BiBo)\, Mengen
URL:https://menschenraeume.de/termin/begegnungstreff-cafe-brauchbar/2028-03-07/
LOCATION:Mengen\, Café Brauchbar\, Messkircher Str. 2\, Mengen\, Baden-Württemberg\, 88512\, Deutschland
CATEGORIES:Mengen
END:VEVENT
BEGIN:VEVENT
DTSTART;TZID=Europe/Berlin:20280307T143000
DTEND;TZID=Europe/Berlin:20280307T153000
DTSTAMP:20260424T060652
CREATED:20250317T140349Z
LAST-MODIFIED:20251201T062749Z
UID:10004360-1836052200-1836055800@menschenraeume.de
SUMMARY:TV Mengen 1863 e. V. - Sprechstunde
DESCRIPTION:Ab Mai bietet der TV Mengen im Café Brauchbar eine wöchentliche Sprechstunde für Mitglieder und Interessierte an. \nCafé Brauchbar\, Meßkircher Str. 2 (ehemals BiBo)\, Mengen \nBarrierefrei: Aufzug über Seiteneingang (Praxis Maderner)
URL:https://menschenraeume.de/termin/tv-mengen-sprechstunde-2/2028-03-07/
LOCATION:Mengen\, Café Brauchbar\, Messkircher Str. 2\, Mengen\, Baden-Württemberg\, 88512\, Deutschland
CATEGORIES:Mengen
END:VEVENT
BEGIN:VEVENT
DTSTART;TZID=Europe/Berlin:20280308T100000
DTEND;TZID=Europe/Berlin:20280308T173000
DTSTAMP:20260424T060652
CREATED:20240409T060104Z
LAST-MODIFIED:20251201T062547Z
UID:10002287-1836122400-1836149400@menschenraeume.de
SUMMARY:Begegnungstreff Café Brauchbar
DESCRIPTION:Gespräche und Begegnungen\, Kreativität und Engagement\, Beratung\, Kinderspielecke. \nDi.\, 14.00 bis 17.30 Uhr Kaffee und Kuchen \nMi. und Do.\,  10.00 bis 17.30 Uhr Brezeln\, Tagessuppe\, Kaffee und Kuchen \nMenschenRäume\, Meßkircher Str. 2 (ehemals BiBo)\, Mengen
URL:https://menschenraeume.de/termin/begegnungstreff-cafe-brauchbar-2/2028-03-08/
LOCATION:Mengen\, Café Brauchbar\, Messkircher Str. 2\, Mengen\, Baden-Württemberg\, 88512\, Deutschland
CATEGORIES:Mengen
END:VEVENT
BEGIN:VEVENT
DTSTART;TZID=Europe/Berlin:20280308T101500
DTEND;TZID=Europe/Berlin:20280308T114500
DTSTAMP:20260424T060652
CREATED:20240924T150032Z
LAST-MODIFIED:20251201T061928Z
UID:10003617-1836123300-1836128700@menschenraeume.de
SUMMARY:Sprach-Café
DESCRIPTION:Das Sprach-Café ist kostenlos\, kann ohne Voranmeldung besucht werden und bietet einen leichten Einstieg in die deutsche Sprache an.
URL:https://menschenraeume.de/termin/sprach-cafe/2028-03-08/
LOCATION:Mengen\, Café Brauchbar\, Messkircher Str. 2\, Mengen\, Baden-Württemberg\, 88512\, Deutschland
CATEGORIES:Mengen
END:VEVENT
BEGIN:VEVENT
DTSTART;TZID=Europe/Berlin:20280309T100000
DTEND;TZID=Europe/Berlin:20280309T173000
DTSTAMP:20260424T060652
CREATED:20240409T060143Z
LAST-MODIFIED:20251201T062630Z
UID:10002547-1836208800-1836235800@menschenraeume.de
SUMMARY:Begegnungstreff Café Brauchbar
DESCRIPTION:Gespräche und Begegnungen\, Kreativität und Engagement\, Beratung\, Kinderspielecke. \nDi.\, 14.00 bis 17.30 Uhr Kaffee und Kuchen \nMi. und Do.\,  10.00 bis 17.30 Uhr Brezeln\, Tagessuppe\, Kaffee und Kuchen \nMenschenRäume\, Meßkircher Str. 2 (ehemals BiBo)\, Mengen
URL:https://menschenraeume.de/termin/begegnungstreff-cafe-brauchbar-3/2028-03-09/
LOCATION:Mengen\, Café Brauchbar\, Messkircher Str. 2\, Mengen\, Baden-Württemberg\, 88512\, Deutschland
CATEGORIES:Mengen
END:VEVENT
BEGIN:VEVENT
DTSTART;TZID=Europe/Berlin:20280310T143000
DTEND;TZID=Europe/Berlin:20280310T180000
DTSTAMP:20260424T060652
CREATED:20221206T182342Z
LAST-MODIFIED:20260326T144840Z
UID:10000449-1836311400-1836324000@menschenraeume.de
SUMMARY:Offener Kaffeetreff Blochingen
DESCRIPTION:Genießt einen gemütlichen Nachmittag bei Kaffee\, Tee und selbstgebackenem Kuchen. Für alle Spielefans haben wir eine große Auswahl an Gesellschaftsspielen anzubieten. \nMehrgenerationentreff Blochingen\, Greutleweg 24\, 88512 Blochingen
URL:https://menschenraeume.de/termin/offener-kaffeetreff-blochingen-30052023/2028-03-10/
LOCATION:Blochingen\, Mehrgenerationentreff\, Greutleweg 24\, Blochingen\, 88512
CATEGORIES:Blochingen
END:VEVENT
BEGIN:VEVENT
DTSTART;TZID=Europe/Berlin:20280314T140000
DTEND;TZID=Europe/Berlin:20280314T173000
DTSTAMP:20260424T060652
CREATED:20240409T055821Z
LAST-MODIFIED:20251201T062443Z
UID:10002027-1836655200-1836667800@menschenraeume.de
SUMMARY:Begegnungstreff Café Brauchbar
DESCRIPTION:Gespräche und Begegnungen\, Kreativität und Engagement\, Beratung\, Kinderspielecke. \nDi.\, 14.00 bis 17.30 Uhr Kaffee und Kuchen \nMi. und Do.\,  10.00 bis 17.30 Uhr Brezeln\, Tagessuppe\, Kaffee und Kuchen \nMenschenRäume\, Meßkircher Str. 2 (ehemals BiBo)\, Mengen
URL:https://menschenraeume.de/termin/begegnungstreff-cafe-brauchbar/2028-03-14/
LOCATION:Mengen\, Café Brauchbar\, Messkircher Str. 2\, Mengen\, Baden-Württemberg\, 88512\, Deutschland
CATEGORIES:Mengen
END:VEVENT
BEGIN:VEVENT
DTSTART;TZID=Europe/Berlin:20280314T143000
DTEND;TZID=Europe/Berlin:20280314T153000
DTSTAMP:20260424T060652
CREATED:20250317T140349Z
LAST-MODIFIED:20251201T062749Z
UID:10004361-1836657000-1836660600@menschenraeume.de
SUMMARY:TV Mengen 1863 e. V. - Sprechstunde
DESCRIPTION:Ab Mai bietet der TV Mengen im Café Brauchbar eine wöchentliche Sprechstunde für Mitglieder und Interessierte an. \nCafé Brauchbar\, Meßkircher Str. 2 (ehemals BiBo)\, Mengen \nBarrierefrei: Aufzug über Seiteneingang (Praxis Maderner)
URL:https://menschenraeume.de/termin/tv-mengen-sprechstunde-2/2028-03-14/
LOCATION:Mengen\, Café Brauchbar\, Messkircher Str. 2\, Mengen\, Baden-Württemberg\, 88512\, Deutschland
CATEGORIES:Mengen
END:VEVENT
BEGIN:VEVENT
DTSTART;TZID=Europe/Berlin:20280315T100000
DTEND;TZID=Europe/Berlin:20280315T173000
DTSTAMP:20260424T060652
CREATED:20240409T060104Z
LAST-MODIFIED:20251201T062547Z
UID:10002288-1836727200-1836754200@menschenraeume.de
SUMMARY:Begegnungstreff Café Brauchbar
DESCRIPTION:Gespräche und Begegnungen\, Kreativität und Engagement\, Beratung\, Kinderspielecke. \nDi.\, 14.00 bis 17.30 Uhr Kaffee und Kuchen \nMi. und Do.\,  10.00 bis 17.30 Uhr Brezeln\, Tagessuppe\, Kaffee und Kuchen \nMenschenRäume\, Meßkircher Str. 2 (ehemals BiBo)\, Mengen
URL:https://menschenraeume.de/termin/begegnungstreff-cafe-brauchbar-2/2028-03-15/
LOCATION:Mengen\, Café Brauchbar\, Messkircher Str. 2\, Mengen\, Baden-Württemberg\, 88512\, Deutschland
CATEGORIES:Mengen
END:VEVENT
BEGIN:VEVENT
DTSTART;TZID=Europe/Berlin:20280315T101500
DTEND;TZID=Europe/Berlin:20280315T114500
DTSTAMP:20260424T060652
CREATED:20240924T150032Z
LAST-MODIFIED:20251201T061928Z
UID:10003618-1836728100-1836733500@menschenraeume.de
SUMMARY:Sprach-Café
DESCRIPTION:Das Sprach-Café ist kostenlos\, kann ohne Voranmeldung besucht werden und bietet einen leichten Einstieg in die deutsche Sprache an.
URL:https://menschenraeume.de/termin/sprach-cafe/2028-03-15/
LOCATION:Mengen\, Café Brauchbar\, Messkircher Str. 2\, Mengen\, Baden-Württemberg\, 88512\, Deutschland
CATEGORIES:Mengen
END:VEVENT
BEGIN:VEVENT
DTSTART;TZID=Europe/Berlin:20280316T100000
DTEND;TZID=Europe/Berlin:20280316T173000
DTSTAMP:20260424T060652
CREATED:20240409T060143Z
LAST-MODIFIED:20251201T062630Z
UID:10002548-1836813600-1836840600@menschenraeume.de
SUMMARY:Begegnungstreff Café Brauchbar
DESCRIPTION:Gespräche und Begegnungen\, Kreativität und Engagement\, Beratung\, Kinderspielecke. \nDi.\, 14.00 bis 17.30 Uhr Kaffee und Kuchen \nMi. und Do.\,  10.00 bis 17.30 Uhr Brezeln\, Tagessuppe\, Kaffee und Kuchen \nMenschenRäume\, Meßkircher Str. 2 (ehemals BiBo)\, Mengen
URL:https://menschenraeume.de/termin/begegnungstreff-cafe-brauchbar-3/2028-03-16/
LOCATION:Mengen\, Café Brauchbar\, Messkircher Str. 2\, Mengen\, Baden-Württemberg\, 88512\, Deutschland
CATEGORIES:Mengen
END:VEVENT
BEGIN:VEVENT
DTSTART;TZID=Europe/Berlin:20280317T143000
DTEND;TZID=Europe/Berlin:20280317T180000
DTSTAMP:20260424T060652
CREATED:20221206T182342Z
LAST-MODIFIED:20260326T144840Z
UID:10000450-1836916200-1836928800@menschenraeume.de
SUMMARY:Offener Kaffeetreff Blochingen
DESCRIPTION:Genießt einen gemütlichen Nachmittag bei Kaffee\, Tee und selbstgebackenem Kuchen. Für alle Spielefans haben wir eine große Auswahl an Gesellschaftsspielen anzubieten. \nMehrgenerationentreff Blochingen\, Greutleweg 24\, 88512 Blochingen
URL:https://menschenraeume.de/termin/offener-kaffeetreff-blochingen-30052023/2028-03-17/
LOCATION:Blochingen\, Mehrgenerationentreff\, Greutleweg 24\, Blochingen\, 88512
CATEGORIES:Blochingen
END:VEVENT
BEGIN:VEVENT
DTSTART;TZID=Europe/Berlin:20280321T140000
DTEND;TZID=Europe/Berlin:20280321T173000
DTSTAMP:20260424T060652
CREATED:20240409T055821Z
LAST-MODIFIED:20251201T062443Z
UID:10002028-1837260000-1837272600@menschenraeume.de
SUMMARY:Begegnungstreff Café Brauchbar
DESCRIPTION:Gespräche und Begegnungen\, Kreativität und Engagement\, Beratung\, Kinderspielecke. \nDi.\, 14.00 bis 17.30 Uhr Kaffee und Kuchen \nMi. und Do.\,  10.00 bis 17.30 Uhr Brezeln\, Tagessuppe\, Kaffee und Kuchen \nMenschenRäume\, Meßkircher Str. 2 (ehemals BiBo)\, Mengen
URL:https://menschenraeume.de/termin/begegnungstreff-cafe-brauchbar/2028-03-21/
LOCATION:Mengen\, Café Brauchbar\, Messkircher Str. 2\, Mengen\, Baden-Württemberg\, 88512\, Deutschland
CATEGORIES:Mengen
END:VEVENT
BEGIN:VEVENT
DTSTART;TZID=Europe/Berlin:20280321T143000
DTEND;TZID=Europe/Berlin:20280321T153000
DTSTAMP:20260424T060652
CREATED:20250317T140349Z
LAST-MODIFIED:20251201T062749Z
UID:10004362-1837261800-1837265400@menschenraeume.de
SUMMARY:TV Mengen 1863 e. V. - Sprechstunde
DESCRIPTION:Ab Mai bietet der TV Mengen im Café Brauchbar eine wöchentliche Sprechstunde für Mitglieder und Interessierte an. \nCafé Brauchbar\, Meßkircher Str. 2 (ehemals BiBo)\, Mengen \nBarrierefrei: Aufzug über Seiteneingang (Praxis Maderner)
URL:https://menschenraeume.de/termin/tv-mengen-sprechstunde-2/2028-03-21/
LOCATION:Mengen\, Café Brauchbar\, Messkircher Str. 2\, Mengen\, Baden-Württemberg\, 88512\, Deutschland
CATEGORIES:Mengen
END:VEVENT
BEGIN:VEVENT
DTSTART;TZID=Europe/Berlin:20280322T100000
DTEND;TZID=Europe/Berlin:20280322T173000
DTSTAMP:20260424T060652
CREATED:20240409T060104Z
LAST-MODIFIED:20251201T062547Z
UID:10002289-1837332000-1837359000@menschenraeume.de
SUMMARY:Begegnungstreff Café Brauchbar
DESCRIPTION:Gespräche und Begegnungen\, Kreativität und Engagement\, Beratung\, Kinderspielecke. \nDi.\, 14.00 bis 17.30 Uhr Kaffee und Kuchen \nMi. und Do.\,  10.00 bis 17.30 Uhr Brezeln\, Tagessuppe\, Kaffee und Kuchen \nMenschenRäume\, Meßkircher Str. 2 (ehemals BiBo)\, Mengen
URL:https://menschenraeume.de/termin/begegnungstreff-cafe-brauchbar-2/2028-03-22/
LOCATION:Mengen\, Café Brauchbar\, Messkircher Str. 2\, Mengen\, Baden-Württemberg\, 88512\, Deutschland
CATEGORIES:Mengen
END:VEVENT
BEGIN:VEVENT
DTSTART;TZID=Europe/Berlin:20280322T101500
DTEND;TZID=Europe/Berlin:20280322T114500
DTSTAMP:20260424T060652
CREATED:20240924T150032Z
LAST-MODIFIED:20251201T061928Z
UID:10003619-1837332900-1837338300@menschenraeume.de
SUMMARY:Sprach-Café
DESCRIPTION:Das Sprach-Café ist kostenlos\, kann ohne Voranmeldung besucht werden und bietet einen leichten Einstieg in die deutsche Sprache an.
URL:https://menschenraeume.de/termin/sprach-cafe/2028-03-22/
LOCATION:Mengen\, Café Brauchbar\, Messkircher Str. 2\, Mengen\, Baden-Württemberg\, 88512\, Deutschland
CATEGORIES:Mengen
END:VEVENT
BEGIN:VEVENT
DTSTART;TZID=Europe/Berlin:20280323T100000
DTEND;TZID=Europe/Berlin:20280323T173000
DTSTAMP:20260424T060652
CREATED:20240409T060143Z
LAST-MODIFIED:20251201T062630Z
UID:10002549-1837418400-1837445400@menschenraeume.de
SUMMARY:Begegnungstreff Café Brauchbar
DESCRIPTION:Gespräche und Begegnungen\, Kreativität und Engagement\, Beratung\, Kinderspielecke. \nDi.\, 14.00 bis 17.30 Uhr Kaffee und Kuchen \nMi. und Do.\,  10.00 bis 17.30 Uhr Brezeln\, Tagessuppe\, Kaffee und Kuchen \nMenschenRäume\, Meßkircher Str. 2 (ehemals BiBo)\, Mengen
URL:https://menschenraeume.de/termin/begegnungstreff-cafe-brauchbar-3/2028-03-23/
LOCATION:Mengen\, Café Brauchbar\, Messkircher Str. 2\, Mengen\, Baden-Württemberg\, 88512\, Deutschland
CATEGORIES:Mengen
END:VEVENT
BEGIN:VEVENT
DTSTART;TZID=Europe/Berlin:20280324T143000
DTEND;TZID=Europe/Berlin:20280324T180000
DTSTAMP:20260424T060652
CREATED:20221206T182342Z
LAST-MODIFIED:20260326T144840Z
UID:10000451-1837521000-1837533600@menschenraeume.de
SUMMARY:Offener Kaffeetreff Blochingen
DESCRIPTION:Genießt einen gemütlichen Nachmittag bei Kaffee\, Tee und selbstgebackenem Kuchen. Für alle Spielefans haben wir eine große Auswahl an Gesellschaftsspielen anzubieten. \nMehrgenerationentreff Blochingen\, Greutleweg 24\, 88512 Blochingen
URL:https://menschenraeume.de/termin/offener-kaffeetreff-blochingen-30052023/2028-03-24/
LOCATION:Blochingen\, Mehrgenerationentreff\, Greutleweg 24\, Blochingen\, 88512
CATEGORIES:Blochingen
END:VEVENT
BEGIN:VEVENT
DTSTART;TZID=Europe/Berlin:20280328T140000
DTEND;TZID=Europe/Berlin:20280328T173000
DTSTAMP:20260424T060652
CREATED:20240409T055821Z
LAST-MODIFIED:20251201T062443Z
UID:10002029-1837864800-1837877400@menschenraeume.de
SUMMARY:Begegnungstreff Café Brauchbar
DESCRIPTION:Gespräche und Begegnungen\, Kreativität und Engagement\, Beratung\, Kinderspielecke. \nDi.\, 14.00 bis 17.30 Uhr Kaffee und Kuchen \nMi. und Do.\,  10.00 bis 17.30 Uhr Brezeln\, Tagessuppe\, Kaffee und Kuchen \nMenschenRäume\, Meßkircher Str. 2 (ehemals BiBo)\, Mengen
URL:https://menschenraeume.de/termin/begegnungstreff-cafe-brauchbar/2028-03-28/
LOCATION:Mengen\, Café Brauchbar\, Messkircher Str. 2\, Mengen\, Baden-Württemberg\, 88512\, Deutschland
CATEGORIES:Mengen
END:VEVENT
BEGIN:VEVENT
DTSTART;TZID=Europe/Berlin:20280328T143000
DTEND;TZID=Europe/Berlin:20280328T153000
DTSTAMP:20260424T060652
CREATED:20250317T140349Z
LAST-MODIFIED:20251201T062749Z
UID:10004363-1837866600-1837870200@menschenraeume.de
SUMMARY:TV Mengen 1863 e. V. - Sprechstunde
DESCRIPTION:Ab Mai bietet der TV Mengen im Café Brauchbar eine wöchentliche Sprechstunde für Mitglieder und Interessierte an. \nCafé Brauchbar\, Meßkircher Str. 2 (ehemals BiBo)\, Mengen \nBarrierefrei: Aufzug über Seiteneingang (Praxis Maderner)
URL:https://menschenraeume.de/termin/tv-mengen-sprechstunde-2/2028-03-28/
LOCATION:Mengen\, Café Brauchbar\, Messkircher Str. 2\, Mengen\, Baden-Württemberg\, 88512\, Deutschland
CATEGORIES:Mengen
END:VEVENT
BEGIN:VEVENT
DTSTART;TZID=Europe/Berlin:20280329T100000
DTEND;TZID=Europe/Berlin:20280329T173000
DTSTAMP:20260424T060652
CREATED:20240409T060104Z
LAST-MODIFIED:20251201T062547Z
UID:10002290-1837936800-1837963800@menschenraeume.de
SUMMARY:Begegnungstreff Café Brauchbar
DESCRIPTION:Gespräche und Begegnungen\, Kreativität und Engagement\, Beratung\, Kinderspielecke. \nDi.\, 14.00 bis 17.30 Uhr Kaffee und Kuchen \nMi. und Do.\,  10.00 bis 17.30 Uhr Brezeln\, Tagessuppe\, Kaffee und Kuchen \nMenschenRäume\, Meßkircher Str. 2 (ehemals BiBo)\, Mengen
URL:https://menschenraeume.de/termin/begegnungstreff-cafe-brauchbar-2/2028-03-29/
LOCATION:Mengen\, Café Brauchbar\, Messkircher Str. 2\, Mengen\, Baden-Württemberg\, 88512\, Deutschland
CATEGORIES:Mengen
END:VEVENT
BEGIN:VEVENT
DTSTART;TZID=Europe/Berlin:20280329T101500
DTEND;TZID=Europe/Berlin:20280329T114500
DTSTAMP:20260424T060652
CREATED:20240924T150032Z
LAST-MODIFIED:20251201T061928Z
UID:10003620-1837937700-1837943100@menschenraeume.de
SUMMARY:Sprach-Café
DESCRIPTION:Das Sprach-Café ist kostenlos\, kann ohne Voranmeldung besucht werden und bietet einen leichten Einstieg in die deutsche Sprache an.
URL:https://menschenraeume.de/termin/sprach-cafe/2028-03-29/
LOCATION:Mengen\, Café Brauchbar\, Messkircher Str. 2\, Mengen\, Baden-Württemberg\, 88512\, Deutschland
CATEGORIES:Mengen
END:VEVENT
BEGIN:VEVENT
DTSTART;TZID=Europe/Berlin:20280330T100000
DTEND;TZID=Europe/Berlin:20280330T173000
DTSTAMP:20260424T060652
CREATED:20240409T060143Z
LAST-MODIFIED:20251201T062630Z
UID:10002550-1838023200-1838050200@menschenraeume.de
SUMMARY:Begegnungstreff Café Brauchbar
DESCRIPTION:Gespräche und Begegnungen\, Kreativität und Engagement\, Beratung\, Kinderspielecke. \nDi.\, 14.00 bis 17.30 Uhr Kaffee und Kuchen \nMi. und Do.\,  10.00 bis 17.30 Uhr Brezeln\, Tagessuppe\, Kaffee und Kuchen \nMenschenRäume\, Meßkircher Str. 2 (ehemals BiBo)\, Mengen
URL:https://menschenraeume.de/termin/begegnungstreff-cafe-brauchbar-3/2028-03-30/
LOCATION:Mengen\, Café Brauchbar\, Messkircher Str. 2\, Mengen\, Baden-Württemberg\, 88512\, Deutschland
CATEGORIES:Mengen
END:VEVENT
BEGIN:VEVENT
DTSTART;TZID=Europe/Berlin:20280331T143000
DTEND;TZID=Europe/Berlin:20280331T180000
DTSTAMP:20260424T060652
CREATED:20221206T182342Z
LAST-MODIFIED:20260326T144840Z
UID:10000452-1838125800-1838138400@menschenraeume.de
SUMMARY:Offener Kaffeetreff Blochingen
DESCRIPTION:Genießt einen gemütlichen Nachmittag bei Kaffee\, Tee und selbstgebackenem Kuchen. Für alle Spielefans haben wir eine große Auswahl an Gesellschaftsspielen anzubieten. \nMehrgenerationentreff Blochingen\, Greutleweg 24\, 88512 Blochingen
URL:https://menschenraeume.de/termin/offener-kaffeetreff-blochingen-30052023/2028-03-31/
LOCATION:Blochingen\, Mehrgenerationentreff\, Greutleweg 24\, Blochingen\, 88512
CATEGORIES:Blochingen
END:VEVENT
END:VCALENDAR