BEGIN:VCALENDAR
VERSION:2.0
PRODID:-//MenschenRäume - ECPv6.15.20//NONSGML v1.0//EN
CALSCALE:GREGORIAN
METHOD:PUBLISH
X-ORIGINAL-URL:https://menschenraeume.de
X-WR-CALDESC:Veranstaltungen für MenschenRäume
REFRESH-INTERVAL;VALUE=DURATION:PT1H
X-Robots-Tag:noindex
X-PUBLISHED-TTL:PT1H
BEGIN:VTIMEZONE
TZID:Europe/Berlin
BEGIN:DAYLIGHT
TZOFFSETFROM:+0100
TZOFFSETTO:+0200
TZNAME:CEST
DTSTART:20270328T010000
END:DAYLIGHT
BEGIN:STANDARD
TZOFFSETFROM:+0200
TZOFFSETTO:+0100
TZNAME:CET
DTSTART:20271031T010000
END:STANDARD
BEGIN:DAYLIGHT
TZOFFSETFROM:+0100
TZOFFSETTO:+0200
TZNAME:CEST
DTSTART:20280326T010000
END:DAYLIGHT
BEGIN:STANDARD
TZOFFSETFROM:+0200
TZOFFSETTO:+0100
TZNAME:CET
DTSTART:20281029T010000
END:STANDARD
BEGIN:DAYLIGHT
TZOFFSETFROM:+0100
TZOFFSETTO:+0200
TZNAME:CEST
DTSTART:20290325T010000
END:DAYLIGHT
BEGIN:STANDARD
TZOFFSETFROM:+0200
TZOFFSETTO:+0100
TZNAME:CET
DTSTART:20291028T010000
END:STANDARD
END:VTIMEZONE
BEGIN:VEVENT
DTSTART;TZID=Europe/Berlin:20280118T140000
DTEND;TZID=Europe/Berlin:20280118T173000
DTSTAMP:20260424T004458
CREATED:20240409T055821Z
LAST-MODIFIED:20251201T062443Z
UID:10002019-1831816800-1831829400@menschenraeume.de
SUMMARY:Begegnungstreff Café Brauchbar
DESCRIPTION:Gespräche und Begegnungen\, Kreativität und Engagement\, Beratung\, Kinderspielecke. \nDi.\, 14.00 bis 17.30 Uhr Kaffee und Kuchen \nMi. und Do.\,  10.00 bis 17.30 Uhr Brezeln\, Tagessuppe\, Kaffee und Kuchen \nMenschenRäume\, Meßkircher Str. 2 (ehemals BiBo)\, Mengen
URL:https://menschenraeume.de/termin/begegnungstreff-cafe-brauchbar/2028-01-18/
LOCATION:Mengen\, Café Brauchbar\, Messkircher Str. 2\, Mengen\, Baden-Württemberg\, 88512\, Deutschland
CATEGORIES:Mengen
END:VEVENT
BEGIN:VEVENT
DTSTART;TZID=Europe/Berlin:20280118T143000
DTEND;TZID=Europe/Berlin:20280118T153000
DTSTAMP:20260424T004458
CREATED:20250317T140349Z
LAST-MODIFIED:20251201T062749Z
UID:10004353-1831818600-1831822200@menschenraeume.de
SUMMARY:TV Mengen 1863 e. V. - Sprechstunde
DESCRIPTION:Ab Mai bietet der TV Mengen im Café Brauchbar eine wöchentliche Sprechstunde für Mitglieder und Interessierte an. \nCafé Brauchbar\, Meßkircher Str. 2 (ehemals BiBo)\, Mengen \nBarrierefrei: Aufzug über Seiteneingang (Praxis Maderner)
URL:https://menschenraeume.de/termin/tv-mengen-sprechstunde-2/2028-01-18/
LOCATION:Mengen\, Café Brauchbar\, Messkircher Str. 2\, Mengen\, Baden-Württemberg\, 88512\, Deutschland
CATEGORIES:Mengen
END:VEVENT
BEGIN:VEVENT
DTSTART;TZID=Europe/Berlin:20280119T100000
DTEND;TZID=Europe/Berlin:20280119T173000
DTSTAMP:20260424T004458
CREATED:20240409T060104Z
LAST-MODIFIED:20251201T062547Z
UID:10002280-1831888800-1831915800@menschenraeume.de
SUMMARY:Begegnungstreff Café Brauchbar
DESCRIPTION:Gespräche und Begegnungen\, Kreativität und Engagement\, Beratung\, Kinderspielecke. \nDi.\, 14.00 bis 17.30 Uhr Kaffee und Kuchen \nMi. und Do.\,  10.00 bis 17.30 Uhr Brezeln\, Tagessuppe\, Kaffee und Kuchen \nMenschenRäume\, Meßkircher Str. 2 (ehemals BiBo)\, Mengen
URL:https://menschenraeume.de/termin/begegnungstreff-cafe-brauchbar-2/2028-01-19/
LOCATION:Mengen\, Café Brauchbar\, Messkircher Str. 2\, Mengen\, Baden-Württemberg\, 88512\, Deutschland
CATEGORIES:Mengen
END:VEVENT
BEGIN:VEVENT
DTSTART;TZID=Europe/Berlin:20280119T101500
DTEND;TZID=Europe/Berlin:20280119T114500
DTSTAMP:20260424T004458
CREATED:20240924T150032Z
LAST-MODIFIED:20251201T061928Z
UID:10003610-1831889700-1831895100@menschenraeume.de
SUMMARY:Sprach-Café
DESCRIPTION:Das Sprach-Café ist kostenlos\, kann ohne Voranmeldung besucht werden und bietet einen leichten Einstieg in die deutsche Sprache an.
URL:https://menschenraeume.de/termin/sprach-cafe/2028-01-19/
LOCATION:Mengen\, Café Brauchbar\, Messkircher Str. 2\, Mengen\, Baden-Württemberg\, 88512\, Deutschland
CATEGORIES:Mengen
END:VEVENT
BEGIN:VEVENT
DTSTART;TZID=Europe/Berlin:20280120T100000
DTEND;TZID=Europe/Berlin:20280120T173000
DTSTAMP:20260424T004458
CREATED:20240409T060143Z
LAST-MODIFIED:20251201T062630Z
UID:10002540-1831975200-1832002200@menschenraeume.de
SUMMARY:Begegnungstreff Café Brauchbar
DESCRIPTION:Gespräche und Begegnungen\, Kreativität und Engagement\, Beratung\, Kinderspielecke. \nDi.\, 14.00 bis 17.30 Uhr Kaffee und Kuchen \nMi. und Do.\,  10.00 bis 17.30 Uhr Brezeln\, Tagessuppe\, Kaffee und Kuchen \nMenschenRäume\, Meßkircher Str. 2 (ehemals BiBo)\, Mengen
URL:https://menschenraeume.de/termin/begegnungstreff-cafe-brauchbar-3/2028-01-20/
LOCATION:Mengen\, Café Brauchbar\, Messkircher Str. 2\, Mengen\, Baden-Württemberg\, 88512\, Deutschland
CATEGORIES:Mengen
END:VEVENT
BEGIN:VEVENT
DTSTART;TZID=Europe/Berlin:20280121T143000
DTEND;TZID=Europe/Berlin:20280121T180000
DTSTAMP:20260424T004458
CREATED:20221206T182342Z
LAST-MODIFIED:20260326T144840Z
UID:10000442-1832077800-1832090400@menschenraeume.de
SUMMARY:Offener Kaffeetreff Blochingen
DESCRIPTION:Genießt einen gemütlichen Nachmittag bei Kaffee\, Tee und selbstgebackenem Kuchen. Für alle Spielefans haben wir eine große Auswahl an Gesellschaftsspielen anzubieten. \nMehrgenerationentreff Blochingen\, Greutleweg 24\, 88512 Blochingen
URL:https://menschenraeume.de/termin/offener-kaffeetreff-blochingen-30052023/2028-01-21/
LOCATION:Blochingen\, Mehrgenerationentreff\, Greutleweg 24\, Blochingen\, 88512
CATEGORIES:Blochingen
END:VEVENT
BEGIN:VEVENT
DTSTART;TZID=Europe/Berlin:20280125T140000
DTEND;TZID=Europe/Berlin:20280125T173000
DTSTAMP:20260424T004458
CREATED:20240409T055821Z
LAST-MODIFIED:20251201T062443Z
UID:10002020-1832421600-1832434200@menschenraeume.de
SUMMARY:Begegnungstreff Café Brauchbar
DESCRIPTION:Gespräche und Begegnungen\, Kreativität und Engagement\, Beratung\, Kinderspielecke. \nDi.\, 14.00 bis 17.30 Uhr Kaffee und Kuchen \nMi. und Do.\,  10.00 bis 17.30 Uhr Brezeln\, Tagessuppe\, Kaffee und Kuchen \nMenschenRäume\, Meßkircher Str. 2 (ehemals BiBo)\, Mengen
URL:https://menschenraeume.de/termin/begegnungstreff-cafe-brauchbar/2028-01-25/
LOCATION:Mengen\, Café Brauchbar\, Messkircher Str. 2\, Mengen\, Baden-Württemberg\, 88512\, Deutschland
CATEGORIES:Mengen
END:VEVENT
BEGIN:VEVENT
DTSTART;TZID=Europe/Berlin:20280125T143000
DTEND;TZID=Europe/Berlin:20280125T153000
DTSTAMP:20260424T004458
CREATED:20250317T140349Z
LAST-MODIFIED:20251201T062749Z
UID:10004354-1832423400-1832427000@menschenraeume.de
SUMMARY:TV Mengen 1863 e. V. - Sprechstunde
DESCRIPTION:Ab Mai bietet der TV Mengen im Café Brauchbar eine wöchentliche Sprechstunde für Mitglieder und Interessierte an. \nCafé Brauchbar\, Meßkircher Str. 2 (ehemals BiBo)\, Mengen \nBarrierefrei: Aufzug über Seiteneingang (Praxis Maderner)
URL:https://menschenraeume.de/termin/tv-mengen-sprechstunde-2/2028-01-25/
LOCATION:Mengen\, Café Brauchbar\, Messkircher Str. 2\, Mengen\, Baden-Württemberg\, 88512\, Deutschland
CATEGORIES:Mengen
END:VEVENT
BEGIN:VEVENT
DTSTART;TZID=Europe/Berlin:20280126T100000
DTEND;TZID=Europe/Berlin:20280126T173000
DTSTAMP:20260424T004458
CREATED:20240409T060104Z
LAST-MODIFIED:20251201T062547Z
UID:10002281-1832493600-1832520600@menschenraeume.de
SUMMARY:Begegnungstreff Café Brauchbar
DESCRIPTION:Gespräche und Begegnungen\, Kreativität und Engagement\, Beratung\, Kinderspielecke. \nDi.\, 14.00 bis 17.30 Uhr Kaffee und Kuchen \nMi. und Do.\,  10.00 bis 17.30 Uhr Brezeln\, Tagessuppe\, Kaffee und Kuchen \nMenschenRäume\, Meßkircher Str. 2 (ehemals BiBo)\, Mengen
URL:https://menschenraeume.de/termin/begegnungstreff-cafe-brauchbar-2/2028-01-26/
LOCATION:Mengen\, Café Brauchbar\, Messkircher Str. 2\, Mengen\, Baden-Württemberg\, 88512\, Deutschland
CATEGORIES:Mengen
END:VEVENT
BEGIN:VEVENT
DTSTART;TZID=Europe/Berlin:20280126T101500
DTEND;TZID=Europe/Berlin:20280126T114500
DTSTAMP:20260424T004458
CREATED:20240924T150032Z
LAST-MODIFIED:20251201T061928Z
UID:10003611-1832494500-1832499900@menschenraeume.de
SUMMARY:Sprach-Café
DESCRIPTION:Das Sprach-Café ist kostenlos\, kann ohne Voranmeldung besucht werden und bietet einen leichten Einstieg in die deutsche Sprache an.
URL:https://menschenraeume.de/termin/sprach-cafe/2028-01-26/
LOCATION:Mengen\, Café Brauchbar\, Messkircher Str. 2\, Mengen\, Baden-Württemberg\, 88512\, Deutschland
CATEGORIES:Mengen
END:VEVENT
BEGIN:VEVENT
DTSTART;TZID=Europe/Berlin:20280127T100000
DTEND;TZID=Europe/Berlin:20280127T173000
DTSTAMP:20260424T004458
CREATED:20240409T060143Z
LAST-MODIFIED:20251201T062630Z
UID:10002541-1832580000-1832607000@menschenraeume.de
SUMMARY:Begegnungstreff Café Brauchbar
DESCRIPTION:Gespräche und Begegnungen\, Kreativität und Engagement\, Beratung\, Kinderspielecke. \nDi.\, 14.00 bis 17.30 Uhr Kaffee und Kuchen \nMi. und Do.\,  10.00 bis 17.30 Uhr Brezeln\, Tagessuppe\, Kaffee und Kuchen \nMenschenRäume\, Meßkircher Str. 2 (ehemals BiBo)\, Mengen
URL:https://menschenraeume.de/termin/begegnungstreff-cafe-brauchbar-3/2028-01-27/
LOCATION:Mengen\, Café Brauchbar\, Messkircher Str. 2\, Mengen\, Baden-Württemberg\, 88512\, Deutschland
CATEGORIES:Mengen
END:VEVENT
BEGIN:VEVENT
DTSTART;TZID=Europe/Berlin:20280128T143000
DTEND;TZID=Europe/Berlin:20280128T180000
DTSTAMP:20260424T004458
CREATED:20221206T182342Z
LAST-MODIFIED:20260326T144840Z
UID:10000443-1832682600-1832695200@menschenraeume.de
SUMMARY:Offener Kaffeetreff Blochingen
DESCRIPTION:Genießt einen gemütlichen Nachmittag bei Kaffee\, Tee und selbstgebackenem Kuchen. Für alle Spielefans haben wir eine große Auswahl an Gesellschaftsspielen anzubieten. \nMehrgenerationentreff Blochingen\, Greutleweg 24\, 88512 Blochingen
URL:https://menschenraeume.de/termin/offener-kaffeetreff-blochingen-30052023/2028-01-28/
LOCATION:Blochingen\, Mehrgenerationentreff\, Greutleweg 24\, Blochingen\, 88512
CATEGORIES:Blochingen
END:VEVENT
BEGIN:VEVENT
DTSTART;TZID=Europe/Berlin:20280201T140000
DTEND;TZID=Europe/Berlin:20280201T173000
DTSTAMP:20260424T004458
CREATED:20240409T055821Z
LAST-MODIFIED:20251201T062443Z
UID:10002021-1833026400-1833039000@menschenraeume.de
SUMMARY:Begegnungstreff Café Brauchbar
DESCRIPTION:Gespräche und Begegnungen\, Kreativität und Engagement\, Beratung\, Kinderspielecke. \nDi.\, 14.00 bis 17.30 Uhr Kaffee und Kuchen \nMi. und Do.\,  10.00 bis 17.30 Uhr Brezeln\, Tagessuppe\, Kaffee und Kuchen \nMenschenRäume\, Meßkircher Str. 2 (ehemals BiBo)\, Mengen
URL:https://menschenraeume.de/termin/begegnungstreff-cafe-brauchbar/2028-02-01/
LOCATION:Mengen\, Café Brauchbar\, Messkircher Str. 2\, Mengen\, Baden-Württemberg\, 88512\, Deutschland
CATEGORIES:Mengen
END:VEVENT
BEGIN:VEVENT
DTSTART;TZID=Europe/Berlin:20280201T143000
DTEND;TZID=Europe/Berlin:20280201T153000
DTSTAMP:20260424T004458
CREATED:20250317T140349Z
LAST-MODIFIED:20251201T062749Z
UID:10004355-1833028200-1833031800@menschenraeume.de
SUMMARY:TV Mengen 1863 e. V. - Sprechstunde
DESCRIPTION:Ab Mai bietet der TV Mengen im Café Brauchbar eine wöchentliche Sprechstunde für Mitglieder und Interessierte an. \nCafé Brauchbar\, Meßkircher Str. 2 (ehemals BiBo)\, Mengen \nBarrierefrei: Aufzug über Seiteneingang (Praxis Maderner)
URL:https://menschenraeume.de/termin/tv-mengen-sprechstunde-2/2028-02-01/
LOCATION:Mengen\, Café Brauchbar\, Messkircher Str. 2\, Mengen\, Baden-Württemberg\, 88512\, Deutschland
CATEGORIES:Mengen
END:VEVENT
BEGIN:VEVENT
DTSTART;TZID=Europe/Berlin:20280202T100000
DTEND;TZID=Europe/Berlin:20280202T173000
DTSTAMP:20260424T004458
CREATED:20240409T060104Z
LAST-MODIFIED:20251201T062547Z
UID:10002282-1833098400-1833125400@menschenraeume.de
SUMMARY:Begegnungstreff Café Brauchbar
DESCRIPTION:Gespräche und Begegnungen\, Kreativität und Engagement\, Beratung\, Kinderspielecke. \nDi.\, 14.00 bis 17.30 Uhr Kaffee und Kuchen \nMi. und Do.\,  10.00 bis 17.30 Uhr Brezeln\, Tagessuppe\, Kaffee und Kuchen \nMenschenRäume\, Meßkircher Str. 2 (ehemals BiBo)\, Mengen
URL:https://menschenraeume.de/termin/begegnungstreff-cafe-brauchbar-2/2028-02-02/
LOCATION:Mengen\, Café Brauchbar\, Messkircher Str. 2\, Mengen\, Baden-Württemberg\, 88512\, Deutschland
CATEGORIES:Mengen
END:VEVENT
BEGIN:VEVENT
DTSTART;TZID=Europe/Berlin:20280202T101500
DTEND;TZID=Europe/Berlin:20280202T114500
DTSTAMP:20260424T004458
CREATED:20240924T150032Z
LAST-MODIFIED:20251201T061928Z
UID:10003612-1833099300-1833104700@menschenraeume.de
SUMMARY:Sprach-Café
DESCRIPTION:Das Sprach-Café ist kostenlos\, kann ohne Voranmeldung besucht werden und bietet einen leichten Einstieg in die deutsche Sprache an.
URL:https://menschenraeume.de/termin/sprach-cafe/2028-02-02/
LOCATION:Mengen\, Café Brauchbar\, Messkircher Str. 2\, Mengen\, Baden-Württemberg\, 88512\, Deutschland
CATEGORIES:Mengen
END:VEVENT
BEGIN:VEVENT
DTSTART;TZID=Europe/Berlin:20280203T100000
DTEND;TZID=Europe/Berlin:20280203T173000
DTSTAMP:20260424T004458
CREATED:20240409T060143Z
LAST-MODIFIED:20251201T062630Z
UID:10002542-1833184800-1833211800@menschenraeume.de
SUMMARY:Begegnungstreff Café Brauchbar
DESCRIPTION:Gespräche und Begegnungen\, Kreativität und Engagement\, Beratung\, Kinderspielecke. \nDi.\, 14.00 bis 17.30 Uhr Kaffee und Kuchen \nMi. und Do.\,  10.00 bis 17.30 Uhr Brezeln\, Tagessuppe\, Kaffee und Kuchen \nMenschenRäume\, Meßkircher Str. 2 (ehemals BiBo)\, Mengen
URL:https://menschenraeume.de/termin/begegnungstreff-cafe-brauchbar-3/2028-02-03/
LOCATION:Mengen\, Café Brauchbar\, Messkircher Str. 2\, Mengen\, Baden-Württemberg\, 88512\, Deutschland
CATEGORIES:Mengen
END:VEVENT
BEGIN:VEVENT
DTSTART;TZID=Europe/Berlin:20280204T143000
DTEND;TZID=Europe/Berlin:20280204T180000
DTSTAMP:20260424T004458
CREATED:20221206T182342Z
LAST-MODIFIED:20260326T144840Z
UID:10000444-1833287400-1833300000@menschenraeume.de
SUMMARY:Offener Kaffeetreff Blochingen
DESCRIPTION:Genießt einen gemütlichen Nachmittag bei Kaffee\, Tee und selbstgebackenem Kuchen. Für alle Spielefans haben wir eine große Auswahl an Gesellschaftsspielen anzubieten. \nMehrgenerationentreff Blochingen\, Greutleweg 24\, 88512 Blochingen
URL:https://menschenraeume.de/termin/offener-kaffeetreff-blochingen-30052023/2028-02-04/
LOCATION:Blochingen\, Mehrgenerationentreff\, Greutleweg 24\, Blochingen\, 88512
CATEGORIES:Blochingen
END:VEVENT
BEGIN:VEVENT
DTSTART;TZID=Europe/Berlin:20280208T140000
DTEND;TZID=Europe/Berlin:20280208T173000
DTSTAMP:20260424T004458
CREATED:20240409T055821Z
LAST-MODIFIED:20251201T062443Z
UID:10002022-1833631200-1833643800@menschenraeume.de
SUMMARY:Begegnungstreff Café Brauchbar
DESCRIPTION:Gespräche und Begegnungen\, Kreativität und Engagement\, Beratung\, Kinderspielecke. \nDi.\, 14.00 bis 17.30 Uhr Kaffee und Kuchen \nMi. und Do.\,  10.00 bis 17.30 Uhr Brezeln\, Tagessuppe\, Kaffee und Kuchen \nMenschenRäume\, Meßkircher Str. 2 (ehemals BiBo)\, Mengen
URL:https://menschenraeume.de/termin/begegnungstreff-cafe-brauchbar/2028-02-08/
LOCATION:Mengen\, Café Brauchbar\, Messkircher Str. 2\, Mengen\, Baden-Württemberg\, 88512\, Deutschland
CATEGORIES:Mengen
END:VEVENT
BEGIN:VEVENT
DTSTART;TZID=Europe/Berlin:20280208T143000
DTEND;TZID=Europe/Berlin:20280208T153000
DTSTAMP:20260424T004458
CREATED:20250317T140349Z
LAST-MODIFIED:20251201T062749Z
UID:10004356-1833633000-1833636600@menschenraeume.de
SUMMARY:TV Mengen 1863 e. V. - Sprechstunde
DESCRIPTION:Ab Mai bietet der TV Mengen im Café Brauchbar eine wöchentliche Sprechstunde für Mitglieder und Interessierte an. \nCafé Brauchbar\, Meßkircher Str. 2 (ehemals BiBo)\, Mengen \nBarrierefrei: Aufzug über Seiteneingang (Praxis Maderner)
URL:https://menschenraeume.de/termin/tv-mengen-sprechstunde-2/2028-02-08/
LOCATION:Mengen\, Café Brauchbar\, Messkircher Str. 2\, Mengen\, Baden-Württemberg\, 88512\, Deutschland
CATEGORIES:Mengen
END:VEVENT
BEGIN:VEVENT
DTSTART;TZID=Europe/Berlin:20280209T100000
DTEND;TZID=Europe/Berlin:20280209T173000
DTSTAMP:20260424T004458
CREATED:20240409T060104Z
LAST-MODIFIED:20251201T062547Z
UID:10002283-1833703200-1833730200@menschenraeume.de
SUMMARY:Begegnungstreff Café Brauchbar
DESCRIPTION:Gespräche und Begegnungen\, Kreativität und Engagement\, Beratung\, Kinderspielecke. \nDi.\, 14.00 bis 17.30 Uhr Kaffee und Kuchen \nMi. und Do.\,  10.00 bis 17.30 Uhr Brezeln\, Tagessuppe\, Kaffee und Kuchen \nMenschenRäume\, Meßkircher Str. 2 (ehemals BiBo)\, Mengen
URL:https://menschenraeume.de/termin/begegnungstreff-cafe-brauchbar-2/2028-02-09/
LOCATION:Mengen\, Café Brauchbar\, Messkircher Str. 2\, Mengen\, Baden-Württemberg\, 88512\, Deutschland
CATEGORIES:Mengen
END:VEVENT
BEGIN:VEVENT
DTSTART;TZID=Europe/Berlin:20280209T101500
DTEND;TZID=Europe/Berlin:20280209T114500
DTSTAMP:20260424T004458
CREATED:20240924T150032Z
LAST-MODIFIED:20251201T061928Z
UID:10003613-1833704100-1833709500@menschenraeume.de
SUMMARY:Sprach-Café
DESCRIPTION:Das Sprach-Café ist kostenlos\, kann ohne Voranmeldung besucht werden und bietet einen leichten Einstieg in die deutsche Sprache an.
URL:https://menschenraeume.de/termin/sprach-cafe/2028-02-09/
LOCATION:Mengen\, Café Brauchbar\, Messkircher Str. 2\, Mengen\, Baden-Württemberg\, 88512\, Deutschland
CATEGORIES:Mengen
END:VEVENT
BEGIN:VEVENT
DTSTART;TZID=Europe/Berlin:20280210T100000
DTEND;TZID=Europe/Berlin:20280210T173000
DTSTAMP:20260424T004458
CREATED:20240409T060143Z
LAST-MODIFIED:20251201T062630Z
UID:10002543-1833789600-1833816600@menschenraeume.de
SUMMARY:Begegnungstreff Café Brauchbar
DESCRIPTION:Gespräche und Begegnungen\, Kreativität und Engagement\, Beratung\, Kinderspielecke. \nDi.\, 14.00 bis 17.30 Uhr Kaffee und Kuchen \nMi. und Do.\,  10.00 bis 17.30 Uhr Brezeln\, Tagessuppe\, Kaffee und Kuchen \nMenschenRäume\, Meßkircher Str. 2 (ehemals BiBo)\, Mengen
URL:https://menschenraeume.de/termin/begegnungstreff-cafe-brauchbar-3/2028-02-10/
LOCATION:Mengen\, Café Brauchbar\, Messkircher Str. 2\, Mengen\, Baden-Württemberg\, 88512\, Deutschland
CATEGORIES:Mengen
END:VEVENT
BEGIN:VEVENT
DTSTART;TZID=Europe/Berlin:20280211T143000
DTEND;TZID=Europe/Berlin:20280211T180000
DTSTAMP:20260424T004458
CREATED:20221206T182342Z
LAST-MODIFIED:20260326T144840Z
UID:10000445-1833892200-1833904800@menschenraeume.de
SUMMARY:Offener Kaffeetreff Blochingen
DESCRIPTION:Genießt einen gemütlichen Nachmittag bei Kaffee\, Tee und selbstgebackenem Kuchen. Für alle Spielefans haben wir eine große Auswahl an Gesellschaftsspielen anzubieten. \nMehrgenerationentreff Blochingen\, Greutleweg 24\, 88512 Blochingen
URL:https://menschenraeume.de/termin/offener-kaffeetreff-blochingen-30052023/2028-02-11/
LOCATION:Blochingen\, Mehrgenerationentreff\, Greutleweg 24\, Blochingen\, 88512
CATEGORIES:Blochingen
END:VEVENT
BEGIN:VEVENT
DTSTART;TZID=Europe/Berlin:20280215T140000
DTEND;TZID=Europe/Berlin:20280215T173000
DTSTAMP:20260424T004458
CREATED:20240409T055821Z
LAST-MODIFIED:20251201T062443Z
UID:10002023-1834236000-1834248600@menschenraeume.de
SUMMARY:Begegnungstreff Café Brauchbar
DESCRIPTION:Gespräche und Begegnungen\, Kreativität und Engagement\, Beratung\, Kinderspielecke. \nDi.\, 14.00 bis 17.30 Uhr Kaffee und Kuchen \nMi. und Do.\,  10.00 bis 17.30 Uhr Brezeln\, Tagessuppe\, Kaffee und Kuchen \nMenschenRäume\, Meßkircher Str. 2 (ehemals BiBo)\, Mengen
URL:https://menschenraeume.de/termin/begegnungstreff-cafe-brauchbar/2028-02-15/
LOCATION:Mengen\, Café Brauchbar\, Messkircher Str. 2\, Mengen\, Baden-Württemberg\, 88512\, Deutschland
CATEGORIES:Mengen
END:VEVENT
BEGIN:VEVENT
DTSTART;TZID=Europe/Berlin:20280215T143000
DTEND;TZID=Europe/Berlin:20280215T153000
DTSTAMP:20260424T004458
CREATED:20250317T140349Z
LAST-MODIFIED:20251201T062749Z
UID:10004357-1834237800-1834241400@menschenraeume.de
SUMMARY:TV Mengen 1863 e. V. - Sprechstunde
DESCRIPTION:Ab Mai bietet der TV Mengen im Café Brauchbar eine wöchentliche Sprechstunde für Mitglieder und Interessierte an. \nCafé Brauchbar\, Meßkircher Str. 2 (ehemals BiBo)\, Mengen \nBarrierefrei: Aufzug über Seiteneingang (Praxis Maderner)
URL:https://menschenraeume.de/termin/tv-mengen-sprechstunde-2/2028-02-15/
LOCATION:Mengen\, Café Brauchbar\, Messkircher Str. 2\, Mengen\, Baden-Württemberg\, 88512\, Deutschland
CATEGORIES:Mengen
END:VEVENT
BEGIN:VEVENT
DTSTART;TZID=Europe/Berlin:20280216T100000
DTEND;TZID=Europe/Berlin:20280216T173000
DTSTAMP:20260424T004458
CREATED:20240409T060104Z
LAST-MODIFIED:20251201T062547Z
UID:10002284-1834308000-1834335000@menschenraeume.de
SUMMARY:Begegnungstreff Café Brauchbar
DESCRIPTION:Gespräche und Begegnungen\, Kreativität und Engagement\, Beratung\, Kinderspielecke. \nDi.\, 14.00 bis 17.30 Uhr Kaffee und Kuchen \nMi. und Do.\,  10.00 bis 17.30 Uhr Brezeln\, Tagessuppe\, Kaffee und Kuchen \nMenschenRäume\, Meßkircher Str. 2 (ehemals BiBo)\, Mengen
URL:https://menschenraeume.de/termin/begegnungstreff-cafe-brauchbar-2/2028-02-16/
LOCATION:Mengen\, Café Brauchbar\, Messkircher Str. 2\, Mengen\, Baden-Württemberg\, 88512\, Deutschland
CATEGORIES:Mengen
END:VEVENT
BEGIN:VEVENT
DTSTART;TZID=Europe/Berlin:20280216T101500
DTEND;TZID=Europe/Berlin:20280216T114500
DTSTAMP:20260424T004458
CREATED:20240924T150032Z
LAST-MODIFIED:20251201T061928Z
UID:10003614-1834308900-1834314300@menschenraeume.de
SUMMARY:Sprach-Café
DESCRIPTION:Das Sprach-Café ist kostenlos\, kann ohne Voranmeldung besucht werden und bietet einen leichten Einstieg in die deutsche Sprache an.
URL:https://menschenraeume.de/termin/sprach-cafe/2028-02-16/
LOCATION:Mengen\, Café Brauchbar\, Messkircher Str. 2\, Mengen\, Baden-Württemberg\, 88512\, Deutschland
CATEGORIES:Mengen
END:VEVENT
BEGIN:VEVENT
DTSTART;TZID=Europe/Berlin:20280217T100000
DTEND;TZID=Europe/Berlin:20280217T173000
DTSTAMP:20260424T004458
CREATED:20240409T060143Z
LAST-MODIFIED:20251201T062630Z
UID:10002544-1834394400-1834421400@menschenraeume.de
SUMMARY:Begegnungstreff Café Brauchbar
DESCRIPTION:Gespräche und Begegnungen\, Kreativität und Engagement\, Beratung\, Kinderspielecke. \nDi.\, 14.00 bis 17.30 Uhr Kaffee und Kuchen \nMi. und Do.\,  10.00 bis 17.30 Uhr Brezeln\, Tagessuppe\, Kaffee und Kuchen \nMenschenRäume\, Meßkircher Str. 2 (ehemals BiBo)\, Mengen
URL:https://menschenraeume.de/termin/begegnungstreff-cafe-brauchbar-3/2028-02-17/
LOCATION:Mengen\, Café Brauchbar\, Messkircher Str. 2\, Mengen\, Baden-Württemberg\, 88512\, Deutschland
CATEGORIES:Mengen
END:VEVENT
BEGIN:VEVENT
DTSTART;TZID=Europe/Berlin:20280218T143000
DTEND;TZID=Europe/Berlin:20280218T180000
DTSTAMP:20260424T004458
CREATED:20221206T182342Z
LAST-MODIFIED:20260326T144840Z
UID:10000446-1834497000-1834509600@menschenraeume.de
SUMMARY:Offener Kaffeetreff Blochingen
DESCRIPTION:Genießt einen gemütlichen Nachmittag bei Kaffee\, Tee und selbstgebackenem Kuchen. Für alle Spielefans haben wir eine große Auswahl an Gesellschaftsspielen anzubieten. \nMehrgenerationentreff Blochingen\, Greutleweg 24\, 88512 Blochingen
URL:https://menschenraeume.de/termin/offener-kaffeetreff-blochingen-30052023/2028-02-18/
LOCATION:Blochingen\, Mehrgenerationentreff\, Greutleweg 24\, Blochingen\, 88512
CATEGORIES:Blochingen
END:VEVENT
END:VCALENDAR