BEGIN:VCALENDAR
VERSION:2.0
PRODID:-//MenschenRäume - ECPv6.15.20//NONSGML v1.0//EN
CALSCALE:GREGORIAN
METHOD:PUBLISH
X-WR-CALNAME:MenschenRäume
X-ORIGINAL-URL:https://menschenraeume.de
X-WR-CALDESC:Veranstaltungen für MenschenRäume
REFRESH-INTERVAL;VALUE=DURATION:PT1H
X-Robots-Tag:noindex
X-PUBLISHED-TTL:PT1H
BEGIN:VTIMEZONE
TZID:Europe/Berlin
BEGIN:DAYLIGHT
TZOFFSETFROM:+0100
TZOFFSETTO:+0200
TZNAME:CEST
DTSTART:20260329T010000
END:DAYLIGHT
BEGIN:STANDARD
TZOFFSETFROM:+0200
TZOFFSETTO:+0100
TZNAME:CET
DTSTART:20261025T010000
END:STANDARD
BEGIN:DAYLIGHT
TZOFFSETFROM:+0100
TZOFFSETTO:+0200
TZNAME:CEST
DTSTART:20270328T010000
END:DAYLIGHT
BEGIN:STANDARD
TZOFFSETFROM:+0200
TZOFFSETTO:+0100
TZNAME:CET
DTSTART:20271031T010000
END:STANDARD
BEGIN:DAYLIGHT
TZOFFSETFROM:+0100
TZOFFSETTO:+0200
TZNAME:CEST
DTSTART:20280326T010000
END:DAYLIGHT
BEGIN:STANDARD
TZOFFSETFROM:+0200
TZOFFSETTO:+0100
TZNAME:CET
DTSTART:20281029T010000
END:STANDARD
END:VTIMEZONE
BEGIN:VEVENT
DTSTART;TZID=Europe/Berlin:20271007T100000
DTEND;TZID=Europe/Berlin:20271007T173000
DTSTAMP:20260423T130256
CREATED:20240409T060143Z
LAST-MODIFIED:20251201T062630Z
UID:10002525-1822903200-1822930200@menschenraeume.de
SUMMARY:Begegnungstreff Café Brauchbar
DESCRIPTION:Gespräche und Begegnungen\, Kreativität und Engagement\, Beratung\, Kinderspielecke. \nDi.\, 14.00 bis 17.30 Uhr Kaffee und Kuchen \nMi. und Do.\,  10.00 bis 17.30 Uhr Brezeln\, Tagessuppe\, Kaffee und Kuchen \nMenschenRäume\, Meßkircher Str. 2 (ehemals BiBo)\, Mengen
URL:https://menschenraeume.de/termin/begegnungstreff-cafe-brauchbar-3/2027-10-07/
LOCATION:Mengen\, Café Brauchbar\, Messkircher Str. 2\, Mengen\, Baden-Württemberg\, 88512\, Deutschland
CATEGORIES:Mengen
END:VEVENT
BEGIN:VEVENT
DTSTART;TZID=Europe/Berlin:20271008T143000
DTEND;TZID=Europe/Berlin:20271008T180000
DTSTAMP:20260423T130256
CREATED:20221206T182342Z
LAST-MODIFIED:20260326T144840Z
UID:10000427-1823005800-1823018400@menschenraeume.de
SUMMARY:Offener Kaffeetreff Blochingen
DESCRIPTION:Genießt einen gemütlichen Nachmittag bei Kaffee\, Tee und selbstgebackenem Kuchen. Für alle Spielefans haben wir eine große Auswahl an Gesellschaftsspielen anzubieten. \nMehrgenerationentreff Blochingen\, Greutleweg 24\, 88512 Blochingen
URL:https://menschenraeume.de/termin/offener-kaffeetreff-blochingen-30052023/2027-10-08/
LOCATION:Blochingen\, Mehrgenerationentreff\, Greutleweg 24\, Blochingen\, 88512
CATEGORIES:Blochingen
END:VEVENT
BEGIN:VEVENT
DTSTART;TZID=Europe/Berlin:20271012T140000
DTEND;TZID=Europe/Berlin:20271012T173000
DTSTAMP:20260423T130256
CREATED:20240409T055821Z
LAST-MODIFIED:20251201T062443Z
UID:10002005-1823349600-1823362200@menschenraeume.de
SUMMARY:Begegnungstreff Café Brauchbar
DESCRIPTION:Gespräche und Begegnungen\, Kreativität und Engagement\, Beratung\, Kinderspielecke. \nDi.\, 14.00 bis 17.30 Uhr Kaffee und Kuchen \nMi. und Do.\,  10.00 bis 17.30 Uhr Brezeln\, Tagessuppe\, Kaffee und Kuchen \nMenschenRäume\, Meßkircher Str. 2 (ehemals BiBo)\, Mengen
URL:https://menschenraeume.de/termin/begegnungstreff-cafe-brauchbar/2027-10-12/
LOCATION:Mengen\, Café Brauchbar\, Messkircher Str. 2\, Mengen\, Baden-Württemberg\, 88512\, Deutschland
CATEGORIES:Mengen
END:VEVENT
BEGIN:VEVENT
DTSTART;TZID=Europe/Berlin:20271012T143000
DTEND;TZID=Europe/Berlin:20271012T153000
DTSTAMP:20260423T130256
CREATED:20250317T140349Z
LAST-MODIFIED:20251201T062749Z
UID:10004339-1823351400-1823355000@menschenraeume.de
SUMMARY:TV Mengen 1863 e. V. - Sprechstunde
DESCRIPTION:Ab Mai bietet der TV Mengen im Café Brauchbar eine wöchentliche Sprechstunde für Mitglieder und Interessierte an. \nCafé Brauchbar\, Meßkircher Str. 2 (ehemals BiBo)\, Mengen \nBarrierefrei: Aufzug über Seiteneingang (Praxis Maderner)
URL:https://menschenraeume.de/termin/tv-mengen-sprechstunde-2/2027-10-12/
LOCATION:Mengen\, Café Brauchbar\, Messkircher Str. 2\, Mengen\, Baden-Württemberg\, 88512\, Deutschland
CATEGORIES:Mengen
END:VEVENT
BEGIN:VEVENT
DTSTART;TZID=Europe/Berlin:20271013T100000
DTEND;TZID=Europe/Berlin:20271013T173000
DTSTAMP:20260423T130256
CREATED:20240409T060104Z
LAST-MODIFIED:20251201T062547Z
UID:10002266-1823421600-1823448600@menschenraeume.de
SUMMARY:Begegnungstreff Café Brauchbar
DESCRIPTION:Gespräche und Begegnungen\, Kreativität und Engagement\, Beratung\, Kinderspielecke. \nDi.\, 14.00 bis 17.30 Uhr Kaffee und Kuchen \nMi. und Do.\,  10.00 bis 17.30 Uhr Brezeln\, Tagessuppe\, Kaffee und Kuchen \nMenschenRäume\, Meßkircher Str. 2 (ehemals BiBo)\, Mengen
URL:https://menschenraeume.de/termin/begegnungstreff-cafe-brauchbar-2/2027-10-13/
LOCATION:Mengen\, Café Brauchbar\, Messkircher Str. 2\, Mengen\, Baden-Württemberg\, 88512\, Deutschland
CATEGORIES:Mengen
END:VEVENT
BEGIN:VEVENT
DTSTART;TZID=Europe/Berlin:20271013T101500
DTEND;TZID=Europe/Berlin:20271013T114500
DTSTAMP:20260423T130256
CREATED:20240924T150032Z
LAST-MODIFIED:20251201T061928Z
UID:10003596-1823422500-1823427900@menschenraeume.de
SUMMARY:Sprach-Café
DESCRIPTION:Das Sprach-Café ist kostenlos\, kann ohne Voranmeldung besucht werden und bietet einen leichten Einstieg in die deutsche Sprache an.
URL:https://menschenraeume.de/termin/sprach-cafe/2027-10-13/
LOCATION:Mengen\, Café Brauchbar\, Messkircher Str. 2\, Mengen\, Baden-Württemberg\, 88512\, Deutschland
CATEGORIES:Mengen
END:VEVENT
BEGIN:VEVENT
DTSTART;TZID=Europe/Berlin:20271014T100000
DTEND;TZID=Europe/Berlin:20271014T173000
DTSTAMP:20260423T130256
CREATED:20240409T060143Z
LAST-MODIFIED:20251201T062630Z
UID:10002526-1823508000-1823535000@menschenraeume.de
SUMMARY:Begegnungstreff Café Brauchbar
DESCRIPTION:Gespräche und Begegnungen\, Kreativität und Engagement\, Beratung\, Kinderspielecke. \nDi.\, 14.00 bis 17.30 Uhr Kaffee und Kuchen \nMi. und Do.\,  10.00 bis 17.30 Uhr Brezeln\, Tagessuppe\, Kaffee und Kuchen \nMenschenRäume\, Meßkircher Str. 2 (ehemals BiBo)\, Mengen
URL:https://menschenraeume.de/termin/begegnungstreff-cafe-brauchbar-3/2027-10-14/
LOCATION:Mengen\, Café Brauchbar\, Messkircher Str. 2\, Mengen\, Baden-Württemberg\, 88512\, Deutschland
CATEGORIES:Mengen
END:VEVENT
BEGIN:VEVENT
DTSTART;TZID=Europe/Berlin:20271015T143000
DTEND;TZID=Europe/Berlin:20271015T180000
DTSTAMP:20260423T130256
CREATED:20221206T182342Z
LAST-MODIFIED:20260326T144840Z
UID:10000428-1823610600-1823623200@menschenraeume.de
SUMMARY:Offener Kaffeetreff Blochingen
DESCRIPTION:Genießt einen gemütlichen Nachmittag bei Kaffee\, Tee und selbstgebackenem Kuchen. Für alle Spielefans haben wir eine große Auswahl an Gesellschaftsspielen anzubieten. \nMehrgenerationentreff Blochingen\, Greutleweg 24\, 88512 Blochingen
URL:https://menschenraeume.de/termin/offener-kaffeetreff-blochingen-30052023/2027-10-15/
LOCATION:Blochingen\, Mehrgenerationentreff\, Greutleweg 24\, Blochingen\, 88512
CATEGORIES:Blochingen
END:VEVENT
BEGIN:VEVENT
DTSTART;TZID=Europe/Berlin:20271019T140000
DTEND;TZID=Europe/Berlin:20271019T173000
DTSTAMP:20260423T130256
CREATED:20240409T055821Z
LAST-MODIFIED:20251201T062443Z
UID:10002006-1823954400-1823967000@menschenraeume.de
SUMMARY:Begegnungstreff Café Brauchbar
DESCRIPTION:Gespräche und Begegnungen\, Kreativität und Engagement\, Beratung\, Kinderspielecke. \nDi.\, 14.00 bis 17.30 Uhr Kaffee und Kuchen \nMi. und Do.\,  10.00 bis 17.30 Uhr Brezeln\, Tagessuppe\, Kaffee und Kuchen \nMenschenRäume\, Meßkircher Str. 2 (ehemals BiBo)\, Mengen
URL:https://menschenraeume.de/termin/begegnungstreff-cafe-brauchbar/2027-10-19/
LOCATION:Mengen\, Café Brauchbar\, Messkircher Str. 2\, Mengen\, Baden-Württemberg\, 88512\, Deutschland
CATEGORIES:Mengen
END:VEVENT
BEGIN:VEVENT
DTSTART;TZID=Europe/Berlin:20271019T143000
DTEND;TZID=Europe/Berlin:20271019T153000
DTSTAMP:20260423T130256
CREATED:20250317T140349Z
LAST-MODIFIED:20251201T062749Z
UID:10004340-1823956200-1823959800@menschenraeume.de
SUMMARY:TV Mengen 1863 e. V. - Sprechstunde
DESCRIPTION:Ab Mai bietet der TV Mengen im Café Brauchbar eine wöchentliche Sprechstunde für Mitglieder und Interessierte an. \nCafé Brauchbar\, Meßkircher Str. 2 (ehemals BiBo)\, Mengen \nBarrierefrei: Aufzug über Seiteneingang (Praxis Maderner)
URL:https://menschenraeume.de/termin/tv-mengen-sprechstunde-2/2027-10-19/
LOCATION:Mengen\, Café Brauchbar\, Messkircher Str. 2\, Mengen\, Baden-Württemberg\, 88512\, Deutschland
CATEGORIES:Mengen
END:VEVENT
BEGIN:VEVENT
DTSTART;TZID=Europe/Berlin:20271020T100000
DTEND;TZID=Europe/Berlin:20271020T173000
DTSTAMP:20260423T130256
CREATED:20240409T060104Z
LAST-MODIFIED:20251201T062547Z
UID:10002267-1824026400-1824053400@menschenraeume.de
SUMMARY:Begegnungstreff Café Brauchbar
DESCRIPTION:Gespräche und Begegnungen\, Kreativität und Engagement\, Beratung\, Kinderspielecke. \nDi.\, 14.00 bis 17.30 Uhr Kaffee und Kuchen \nMi. und Do.\,  10.00 bis 17.30 Uhr Brezeln\, Tagessuppe\, Kaffee und Kuchen \nMenschenRäume\, Meßkircher Str. 2 (ehemals BiBo)\, Mengen
URL:https://menschenraeume.de/termin/begegnungstreff-cafe-brauchbar-2/2027-10-20/
LOCATION:Mengen\, Café Brauchbar\, Messkircher Str. 2\, Mengen\, Baden-Württemberg\, 88512\, Deutschland
CATEGORIES:Mengen
END:VEVENT
BEGIN:VEVENT
DTSTART;TZID=Europe/Berlin:20271020T101500
DTEND;TZID=Europe/Berlin:20271020T114500
DTSTAMP:20260423T130256
CREATED:20240924T150032Z
LAST-MODIFIED:20251201T061928Z
UID:10003597-1824027300-1824032700@menschenraeume.de
SUMMARY:Sprach-Café
DESCRIPTION:Das Sprach-Café ist kostenlos\, kann ohne Voranmeldung besucht werden und bietet einen leichten Einstieg in die deutsche Sprache an.
URL:https://menschenraeume.de/termin/sprach-cafe/2027-10-20/
LOCATION:Mengen\, Café Brauchbar\, Messkircher Str. 2\, Mengen\, Baden-Württemberg\, 88512\, Deutschland
CATEGORIES:Mengen
END:VEVENT
BEGIN:VEVENT
DTSTART;TZID=Europe/Berlin:20271021T100000
DTEND;TZID=Europe/Berlin:20271021T173000
DTSTAMP:20260423T130256
CREATED:20240409T060143Z
LAST-MODIFIED:20251201T062630Z
UID:10002527-1824112800-1824139800@menschenraeume.de
SUMMARY:Begegnungstreff Café Brauchbar
DESCRIPTION:Gespräche und Begegnungen\, Kreativität und Engagement\, Beratung\, Kinderspielecke. \nDi.\, 14.00 bis 17.30 Uhr Kaffee und Kuchen \nMi. und Do.\,  10.00 bis 17.30 Uhr Brezeln\, Tagessuppe\, Kaffee und Kuchen \nMenschenRäume\, Meßkircher Str. 2 (ehemals BiBo)\, Mengen
URL:https://menschenraeume.de/termin/begegnungstreff-cafe-brauchbar-3/2027-10-21/
LOCATION:Mengen\, Café Brauchbar\, Messkircher Str. 2\, Mengen\, Baden-Württemberg\, 88512\, Deutschland
CATEGORIES:Mengen
END:VEVENT
BEGIN:VEVENT
DTSTART;TZID=Europe/Berlin:20271022T143000
DTEND;TZID=Europe/Berlin:20271022T180000
DTSTAMP:20260423T130256
CREATED:20221206T182342Z
LAST-MODIFIED:20260326T144840Z
UID:10000429-1824215400-1824228000@menschenraeume.de
SUMMARY:Offener Kaffeetreff Blochingen
DESCRIPTION:Genießt einen gemütlichen Nachmittag bei Kaffee\, Tee und selbstgebackenem Kuchen. Für alle Spielefans haben wir eine große Auswahl an Gesellschaftsspielen anzubieten. \nMehrgenerationentreff Blochingen\, Greutleweg 24\, 88512 Blochingen
URL:https://menschenraeume.de/termin/offener-kaffeetreff-blochingen-30052023/2027-10-22/
LOCATION:Blochingen\, Mehrgenerationentreff\, Greutleweg 24\, Blochingen\, 88512
CATEGORIES:Blochingen
END:VEVENT
BEGIN:VEVENT
DTSTART;TZID=Europe/Berlin:20271026T140000
DTEND;TZID=Europe/Berlin:20271026T173000
DTSTAMP:20260423T130256
CREATED:20240409T055821Z
LAST-MODIFIED:20251201T062443Z
UID:10002007-1824559200-1824571800@menschenraeume.de
SUMMARY:Begegnungstreff Café Brauchbar
DESCRIPTION:Gespräche und Begegnungen\, Kreativität und Engagement\, Beratung\, Kinderspielecke. \nDi.\, 14.00 bis 17.30 Uhr Kaffee und Kuchen \nMi. und Do.\,  10.00 bis 17.30 Uhr Brezeln\, Tagessuppe\, Kaffee und Kuchen \nMenschenRäume\, Meßkircher Str. 2 (ehemals BiBo)\, Mengen
URL:https://menschenraeume.de/termin/begegnungstreff-cafe-brauchbar/2027-10-26/
LOCATION:Mengen\, Café Brauchbar\, Messkircher Str. 2\, Mengen\, Baden-Württemberg\, 88512\, Deutschland
CATEGORIES:Mengen
END:VEVENT
BEGIN:VEVENT
DTSTART;TZID=Europe/Berlin:20271026T143000
DTEND;TZID=Europe/Berlin:20271026T153000
DTSTAMP:20260423T130256
CREATED:20250317T140349Z
LAST-MODIFIED:20251201T062749Z
UID:10004341-1824561000-1824564600@menschenraeume.de
SUMMARY:TV Mengen 1863 e. V. - Sprechstunde
DESCRIPTION:Ab Mai bietet der TV Mengen im Café Brauchbar eine wöchentliche Sprechstunde für Mitglieder und Interessierte an. \nCafé Brauchbar\, Meßkircher Str. 2 (ehemals BiBo)\, Mengen \nBarrierefrei: Aufzug über Seiteneingang (Praxis Maderner)
URL:https://menschenraeume.de/termin/tv-mengen-sprechstunde-2/2027-10-26/
LOCATION:Mengen\, Café Brauchbar\, Messkircher Str. 2\, Mengen\, Baden-Württemberg\, 88512\, Deutschland
CATEGORIES:Mengen
END:VEVENT
BEGIN:VEVENT
DTSTART;TZID=Europe/Berlin:20271027T100000
DTEND;TZID=Europe/Berlin:20271027T173000
DTSTAMP:20260423T130256
CREATED:20240409T060104Z
LAST-MODIFIED:20251201T062547Z
UID:10002268-1824631200-1824658200@menschenraeume.de
SUMMARY:Begegnungstreff Café Brauchbar
DESCRIPTION:Gespräche und Begegnungen\, Kreativität und Engagement\, Beratung\, Kinderspielecke. \nDi.\, 14.00 bis 17.30 Uhr Kaffee und Kuchen \nMi. und Do.\,  10.00 bis 17.30 Uhr Brezeln\, Tagessuppe\, Kaffee und Kuchen \nMenschenRäume\, Meßkircher Str. 2 (ehemals BiBo)\, Mengen
URL:https://menschenraeume.de/termin/begegnungstreff-cafe-brauchbar-2/2027-10-27/
LOCATION:Mengen\, Café Brauchbar\, Messkircher Str. 2\, Mengen\, Baden-Württemberg\, 88512\, Deutschland
CATEGORIES:Mengen
END:VEVENT
BEGIN:VEVENT
DTSTART;TZID=Europe/Berlin:20271027T101500
DTEND;TZID=Europe/Berlin:20271027T114500
DTSTAMP:20260423T130256
CREATED:20240924T150032Z
LAST-MODIFIED:20251201T061928Z
UID:10003598-1824632100-1824637500@menschenraeume.de
SUMMARY:Sprach-Café
DESCRIPTION:Das Sprach-Café ist kostenlos\, kann ohne Voranmeldung besucht werden und bietet einen leichten Einstieg in die deutsche Sprache an.
URL:https://menschenraeume.de/termin/sprach-cafe/2027-10-27/
LOCATION:Mengen\, Café Brauchbar\, Messkircher Str. 2\, Mengen\, Baden-Württemberg\, 88512\, Deutschland
CATEGORIES:Mengen
END:VEVENT
BEGIN:VEVENT
DTSTART;TZID=Europe/Berlin:20271028T100000
DTEND;TZID=Europe/Berlin:20271028T173000
DTSTAMP:20260423T130256
CREATED:20240409T060143Z
LAST-MODIFIED:20251201T062630Z
UID:10002528-1824717600-1824744600@menschenraeume.de
SUMMARY:Begegnungstreff Café Brauchbar
DESCRIPTION:Gespräche und Begegnungen\, Kreativität und Engagement\, Beratung\, Kinderspielecke. \nDi.\, 14.00 bis 17.30 Uhr Kaffee und Kuchen \nMi. und Do.\,  10.00 bis 17.30 Uhr Brezeln\, Tagessuppe\, Kaffee und Kuchen \nMenschenRäume\, Meßkircher Str. 2 (ehemals BiBo)\, Mengen
URL:https://menschenraeume.de/termin/begegnungstreff-cafe-brauchbar-3/2027-10-28/
LOCATION:Mengen\, Café Brauchbar\, Messkircher Str. 2\, Mengen\, Baden-Württemberg\, 88512\, Deutschland
CATEGORIES:Mengen
END:VEVENT
BEGIN:VEVENT
DTSTART;TZID=Europe/Berlin:20271029T143000
DTEND;TZID=Europe/Berlin:20271029T180000
DTSTAMP:20260423T130256
CREATED:20221206T182342Z
LAST-MODIFIED:20260326T144840Z
UID:10000430-1824820200-1824832800@menschenraeume.de
SUMMARY:Offener Kaffeetreff Blochingen
DESCRIPTION:Genießt einen gemütlichen Nachmittag bei Kaffee\, Tee und selbstgebackenem Kuchen. Für alle Spielefans haben wir eine große Auswahl an Gesellschaftsspielen anzubieten. \nMehrgenerationentreff Blochingen\, Greutleweg 24\, 88512 Blochingen
URL:https://menschenraeume.de/termin/offener-kaffeetreff-blochingen-30052023/2027-10-29/
LOCATION:Blochingen\, Mehrgenerationentreff\, Greutleweg 24\, Blochingen\, 88512
CATEGORIES:Blochingen
END:VEVENT
BEGIN:VEVENT
DTSTART;TZID=Europe/Berlin:20271102T140000
DTEND;TZID=Europe/Berlin:20271102T173000
DTSTAMP:20260423T130256
CREATED:20240409T055821Z
LAST-MODIFIED:20251201T062443Z
UID:10002008-1825164000-1825176600@menschenraeume.de
SUMMARY:Begegnungstreff Café Brauchbar
DESCRIPTION:Gespräche und Begegnungen\, Kreativität und Engagement\, Beratung\, Kinderspielecke. \nDi.\, 14.00 bis 17.30 Uhr Kaffee und Kuchen \nMi. und Do.\,  10.00 bis 17.30 Uhr Brezeln\, Tagessuppe\, Kaffee und Kuchen \nMenschenRäume\, Meßkircher Str. 2 (ehemals BiBo)\, Mengen
URL:https://menschenraeume.de/termin/begegnungstreff-cafe-brauchbar/2027-11-02/
LOCATION:Mengen\, Café Brauchbar\, Messkircher Str. 2\, Mengen\, Baden-Württemberg\, 88512\, Deutschland
CATEGORIES:Mengen
END:VEVENT
BEGIN:VEVENT
DTSTART;TZID=Europe/Berlin:20271102T143000
DTEND;TZID=Europe/Berlin:20271102T153000
DTSTAMP:20260423T130256
CREATED:20250317T140349Z
LAST-MODIFIED:20251201T062749Z
UID:10004342-1825165800-1825169400@menschenraeume.de
SUMMARY:TV Mengen 1863 e. V. - Sprechstunde
DESCRIPTION:Ab Mai bietet der TV Mengen im Café Brauchbar eine wöchentliche Sprechstunde für Mitglieder und Interessierte an. \nCafé Brauchbar\, Meßkircher Str. 2 (ehemals BiBo)\, Mengen \nBarrierefrei: Aufzug über Seiteneingang (Praxis Maderner)
URL:https://menschenraeume.de/termin/tv-mengen-sprechstunde-2/2027-11-02/
LOCATION:Mengen\, Café Brauchbar\, Messkircher Str. 2\, Mengen\, Baden-Württemberg\, 88512\, Deutschland
CATEGORIES:Mengen
END:VEVENT
BEGIN:VEVENT
DTSTART;TZID=Europe/Berlin:20271103T100000
DTEND;TZID=Europe/Berlin:20271103T173000
DTSTAMP:20260423T130256
CREATED:20240409T060104Z
LAST-MODIFIED:20251201T062547Z
UID:10002269-1825236000-1825263000@menschenraeume.de
SUMMARY:Begegnungstreff Café Brauchbar
DESCRIPTION:Gespräche und Begegnungen\, Kreativität und Engagement\, Beratung\, Kinderspielecke. \nDi.\, 14.00 bis 17.30 Uhr Kaffee und Kuchen \nMi. und Do.\,  10.00 bis 17.30 Uhr Brezeln\, Tagessuppe\, Kaffee und Kuchen \nMenschenRäume\, Meßkircher Str. 2 (ehemals BiBo)\, Mengen
URL:https://menschenraeume.de/termin/begegnungstreff-cafe-brauchbar-2/2027-11-03/
LOCATION:Mengen\, Café Brauchbar\, Messkircher Str. 2\, Mengen\, Baden-Württemberg\, 88512\, Deutschland
CATEGORIES:Mengen
END:VEVENT
BEGIN:VEVENT
DTSTART;TZID=Europe/Berlin:20271103T101500
DTEND;TZID=Europe/Berlin:20271103T114500
DTSTAMP:20260423T130256
CREATED:20240924T150032Z
LAST-MODIFIED:20251201T061928Z
UID:10003599-1825236900-1825242300@menschenraeume.de
SUMMARY:Sprach-Café
DESCRIPTION:Das Sprach-Café ist kostenlos\, kann ohne Voranmeldung besucht werden und bietet einen leichten Einstieg in die deutsche Sprache an.
URL:https://menschenraeume.de/termin/sprach-cafe/2027-11-03/
LOCATION:Mengen\, Café Brauchbar\, Messkircher Str. 2\, Mengen\, Baden-Württemberg\, 88512\, Deutschland
CATEGORIES:Mengen
END:VEVENT
BEGIN:VEVENT
DTSTART;TZID=Europe/Berlin:20271104T100000
DTEND;TZID=Europe/Berlin:20271104T173000
DTSTAMP:20260423T130256
CREATED:20240409T060143Z
LAST-MODIFIED:20251201T062630Z
UID:10002529-1825322400-1825349400@menschenraeume.de
SUMMARY:Begegnungstreff Café Brauchbar
DESCRIPTION:Gespräche und Begegnungen\, Kreativität und Engagement\, Beratung\, Kinderspielecke. \nDi.\, 14.00 bis 17.30 Uhr Kaffee und Kuchen \nMi. und Do.\,  10.00 bis 17.30 Uhr Brezeln\, Tagessuppe\, Kaffee und Kuchen \nMenschenRäume\, Meßkircher Str. 2 (ehemals BiBo)\, Mengen
URL:https://menschenraeume.de/termin/begegnungstreff-cafe-brauchbar-3/2027-11-04/
LOCATION:Mengen\, Café Brauchbar\, Messkircher Str. 2\, Mengen\, Baden-Württemberg\, 88512\, Deutschland
CATEGORIES:Mengen
END:VEVENT
BEGIN:VEVENT
DTSTART;TZID=Europe/Berlin:20271105T143000
DTEND;TZID=Europe/Berlin:20271105T180000
DTSTAMP:20260423T130256
CREATED:20221206T182342Z
LAST-MODIFIED:20260326T144840Z
UID:10000431-1825425000-1825437600@menschenraeume.de
SUMMARY:Offener Kaffeetreff Blochingen
DESCRIPTION:Genießt einen gemütlichen Nachmittag bei Kaffee\, Tee und selbstgebackenem Kuchen. Für alle Spielefans haben wir eine große Auswahl an Gesellschaftsspielen anzubieten. \nMehrgenerationentreff Blochingen\, Greutleweg 24\, 88512 Blochingen
URL:https://menschenraeume.de/termin/offener-kaffeetreff-blochingen-30052023/2027-11-05/
LOCATION:Blochingen\, Mehrgenerationentreff\, Greutleweg 24\, Blochingen\, 88512
CATEGORIES:Blochingen
END:VEVENT
BEGIN:VEVENT
DTSTART;TZID=Europe/Berlin:20271109T140000
DTEND;TZID=Europe/Berlin:20271109T173000
DTSTAMP:20260423T130256
CREATED:20240409T055821Z
LAST-MODIFIED:20251201T062443Z
UID:10002009-1825768800-1825781400@menschenraeume.de
SUMMARY:Begegnungstreff Café Brauchbar
DESCRIPTION:Gespräche und Begegnungen\, Kreativität und Engagement\, Beratung\, Kinderspielecke. \nDi.\, 14.00 bis 17.30 Uhr Kaffee und Kuchen \nMi. und Do.\,  10.00 bis 17.30 Uhr Brezeln\, Tagessuppe\, Kaffee und Kuchen \nMenschenRäume\, Meßkircher Str. 2 (ehemals BiBo)\, Mengen
URL:https://menschenraeume.de/termin/begegnungstreff-cafe-brauchbar/2027-11-09/
LOCATION:Mengen\, Café Brauchbar\, Messkircher Str. 2\, Mengen\, Baden-Württemberg\, 88512\, Deutschland
CATEGORIES:Mengen
END:VEVENT
BEGIN:VEVENT
DTSTART;TZID=Europe/Berlin:20271109T143000
DTEND;TZID=Europe/Berlin:20271109T153000
DTSTAMP:20260423T130256
CREATED:20250317T140349Z
LAST-MODIFIED:20251201T062749Z
UID:10004343-1825770600-1825774200@menschenraeume.de
SUMMARY:TV Mengen 1863 e. V. - Sprechstunde
DESCRIPTION:Ab Mai bietet der TV Mengen im Café Brauchbar eine wöchentliche Sprechstunde für Mitglieder und Interessierte an. \nCafé Brauchbar\, Meßkircher Str. 2 (ehemals BiBo)\, Mengen \nBarrierefrei: Aufzug über Seiteneingang (Praxis Maderner)
URL:https://menschenraeume.de/termin/tv-mengen-sprechstunde-2/2027-11-09/
LOCATION:Mengen\, Café Brauchbar\, Messkircher Str. 2\, Mengen\, Baden-Württemberg\, 88512\, Deutschland
CATEGORIES:Mengen
END:VEVENT
BEGIN:VEVENT
DTSTART;TZID=Europe/Berlin:20271110T100000
DTEND;TZID=Europe/Berlin:20271110T173000
DTSTAMP:20260423T130256
CREATED:20240409T060104Z
LAST-MODIFIED:20251201T062547Z
UID:10002270-1825840800-1825867800@menschenraeume.de
SUMMARY:Begegnungstreff Café Brauchbar
DESCRIPTION:Gespräche und Begegnungen\, Kreativität und Engagement\, Beratung\, Kinderspielecke. \nDi.\, 14.00 bis 17.30 Uhr Kaffee und Kuchen \nMi. und Do.\,  10.00 bis 17.30 Uhr Brezeln\, Tagessuppe\, Kaffee und Kuchen \nMenschenRäume\, Meßkircher Str. 2 (ehemals BiBo)\, Mengen
URL:https://menschenraeume.de/termin/begegnungstreff-cafe-brauchbar-2/2027-11-10/
LOCATION:Mengen\, Café Brauchbar\, Messkircher Str. 2\, Mengen\, Baden-Württemberg\, 88512\, Deutschland
CATEGORIES:Mengen
END:VEVENT
BEGIN:VEVENT
DTSTART;TZID=Europe/Berlin:20271110T101500
DTEND;TZID=Europe/Berlin:20271110T114500
DTSTAMP:20260423T130256
CREATED:20240924T150032Z
LAST-MODIFIED:20251201T061928Z
UID:10003600-1825841700-1825847100@menschenraeume.de
SUMMARY:Sprach-Café
DESCRIPTION:Das Sprach-Café ist kostenlos\, kann ohne Voranmeldung besucht werden und bietet einen leichten Einstieg in die deutsche Sprache an.
URL:https://menschenraeume.de/termin/sprach-cafe/2027-11-10/
LOCATION:Mengen\, Café Brauchbar\, Messkircher Str. 2\, Mengen\, Baden-Württemberg\, 88512\, Deutschland
CATEGORIES:Mengen
END:VEVENT
END:VCALENDAR