BEGIN:VCALENDAR
VERSION:2.0
PRODID:-//MenschenRäume - ECPv6.15.20//NONSGML v1.0//EN
CALSCALE:GREGORIAN
METHOD:PUBLISH
X-WR-CALNAME:MenschenRäume
X-ORIGINAL-URL:https://menschenraeume.de
X-WR-CALDESC:Veranstaltungen für MenschenRäume
REFRESH-INTERVAL;VALUE=DURATION:PT1H
X-Robots-Tag:noindex
X-PUBLISHED-TTL:PT1H
BEGIN:VTIMEZONE
TZID:Europe/Berlin
BEGIN:DAYLIGHT
TZOFFSETFROM:+0100
TZOFFSETTO:+0200
TZNAME:CEST
DTSTART:20260329T010000
END:DAYLIGHT
BEGIN:STANDARD
TZOFFSETFROM:+0200
TZOFFSETTO:+0100
TZNAME:CET
DTSTART:20261025T010000
END:STANDARD
BEGIN:DAYLIGHT
TZOFFSETFROM:+0100
TZOFFSETTO:+0200
TZNAME:CEST
DTSTART:20270328T010000
END:DAYLIGHT
BEGIN:STANDARD
TZOFFSETFROM:+0200
TZOFFSETTO:+0100
TZNAME:CET
DTSTART:20271031T010000
END:STANDARD
BEGIN:DAYLIGHT
TZOFFSETFROM:+0100
TZOFFSETTO:+0200
TZNAME:CEST
DTSTART:20280326T010000
END:DAYLIGHT
BEGIN:STANDARD
TZOFFSETFROM:+0200
TZOFFSETTO:+0100
TZNAME:CET
DTSTART:20281029T010000
END:STANDARD
END:VTIMEZONE
BEGIN:VEVENT
DTSTART;TZID=Europe/Berlin:20270107T100000
DTEND;TZID=Europe/Berlin:20270107T173000
DTSTAMP:20260422T005056
CREATED:20240409T060143Z
LAST-MODIFIED:20251201T062630Z
UID:10002486-1799316000-1799343000@menschenraeume.de
SUMMARY:Begegnungstreff Café Brauchbar
DESCRIPTION:Gespräche und Begegnungen\, Kreativität und Engagement\, Beratung\, Kinderspielecke. \nDi.\, 14.00 bis 17.30 Uhr Kaffee und Kuchen \nMi. und Do.\,  10.00 bis 17.30 Uhr Brezeln\, Tagessuppe\, Kaffee und Kuchen \nMenschenRäume\, Meßkircher Str. 2 (ehemals BiBo)\, Mengen
URL:https://menschenraeume.de/termin/begegnungstreff-cafe-brauchbar-3/2027-01-07/
LOCATION:Mengen\, Café Brauchbar\, Messkircher Str. 2\, Mengen\, Baden-Württemberg\, 88512\, Deutschland
CATEGORIES:Mengen
END:VEVENT
BEGIN:VEVENT
DTSTART;TZID=Europe/Berlin:20270108T143000
DTEND;TZID=Europe/Berlin:20270108T180000
DTSTAMP:20260422T005056
CREATED:20221206T182342Z
LAST-MODIFIED:20260326T144840Z
UID:10000388-1799418600-1799431200@menschenraeume.de
SUMMARY:Offener Kaffeetreff Blochingen
DESCRIPTION:Genießt einen gemütlichen Nachmittag bei Kaffee\, Tee und selbstgebackenem Kuchen. Für alle Spielefans haben wir eine große Auswahl an Gesellschaftsspielen anzubieten. \nMehrgenerationentreff Blochingen\, Greutleweg 24\, 88512 Blochingen
URL:https://menschenraeume.de/termin/offener-kaffeetreff-blochingen-30052023/2027-01-08/
LOCATION:Blochingen\, Mehrgenerationentreff\, Greutleweg 24\, Blochingen\, 88512
CATEGORIES:Blochingen
END:VEVENT
BEGIN:VEVENT
DTSTART;TZID=Europe/Berlin:20270112T140000
DTEND;TZID=Europe/Berlin:20270112T173000
DTSTAMP:20260422T005056
CREATED:20240409T055821Z
LAST-MODIFIED:20251201T062443Z
UID:10001966-1799762400-1799775000@menschenraeume.de
SUMMARY:Begegnungstreff Café Brauchbar
DESCRIPTION:Gespräche und Begegnungen\, Kreativität und Engagement\, Beratung\, Kinderspielecke. \nDi.\, 14.00 bis 17.30 Uhr Kaffee und Kuchen \nMi. und Do.\,  10.00 bis 17.30 Uhr Brezeln\, Tagessuppe\, Kaffee und Kuchen \nMenschenRäume\, Meßkircher Str. 2 (ehemals BiBo)\, Mengen
URL:https://menschenraeume.de/termin/begegnungstreff-cafe-brauchbar/2027-01-12/
LOCATION:Mengen\, Café Brauchbar\, Messkircher Str. 2\, Mengen\, Baden-Württemberg\, 88512\, Deutschland
CATEGORIES:Mengen
END:VEVENT
BEGIN:VEVENT
DTSTART;TZID=Europe/Berlin:20270112T143000
DTEND;TZID=Europe/Berlin:20270112T153000
DTSTAMP:20260422T005056
CREATED:20250317T140349Z
LAST-MODIFIED:20251201T062749Z
UID:10004300-1799764200-1799767800@menschenraeume.de
SUMMARY:TV Mengen 1863 e. V. - Sprechstunde
DESCRIPTION:Ab Mai bietet der TV Mengen im Café Brauchbar eine wöchentliche Sprechstunde für Mitglieder und Interessierte an. \nCafé Brauchbar\, Meßkircher Str. 2 (ehemals BiBo)\, Mengen \nBarrierefrei: Aufzug über Seiteneingang (Praxis Maderner)
URL:https://menschenraeume.de/termin/tv-mengen-sprechstunde-2/2027-01-12/
LOCATION:Mengen\, Café Brauchbar\, Messkircher Str. 2\, Mengen\, Baden-Württemberg\, 88512\, Deutschland
CATEGORIES:Mengen
END:VEVENT
BEGIN:VEVENT
DTSTART;TZID=Europe/Berlin:20270113T100000
DTEND;TZID=Europe/Berlin:20270113T173000
DTSTAMP:20260422T005056
CREATED:20240409T060104Z
LAST-MODIFIED:20251201T062547Z
UID:10002227-1799834400-1799861400@menschenraeume.de
SUMMARY:Begegnungstreff Café Brauchbar
DESCRIPTION:Gespräche und Begegnungen\, Kreativität und Engagement\, Beratung\, Kinderspielecke. \nDi.\, 14.00 bis 17.30 Uhr Kaffee und Kuchen \nMi. und Do.\,  10.00 bis 17.30 Uhr Brezeln\, Tagessuppe\, Kaffee und Kuchen \nMenschenRäume\, Meßkircher Str. 2 (ehemals BiBo)\, Mengen
URL:https://menschenraeume.de/termin/begegnungstreff-cafe-brauchbar-2/2027-01-13/
LOCATION:Mengen\, Café Brauchbar\, Messkircher Str. 2\, Mengen\, Baden-Württemberg\, 88512\, Deutschland
CATEGORIES:Mengen
END:VEVENT
BEGIN:VEVENT
DTSTART;TZID=Europe/Berlin:20270113T101500
DTEND;TZID=Europe/Berlin:20270113T114500
DTSTAMP:20260422T005056
CREATED:20240924T150032Z
LAST-MODIFIED:20251201T061928Z
UID:10003557-1799835300-1799840700@menschenraeume.de
SUMMARY:Sprach-Café
DESCRIPTION:Das Sprach-Café ist kostenlos\, kann ohne Voranmeldung besucht werden und bietet einen leichten Einstieg in die deutsche Sprache an.
URL:https://menschenraeume.de/termin/sprach-cafe/2027-01-13/
LOCATION:Mengen\, Café Brauchbar\, Messkircher Str. 2\, Mengen\, Baden-Württemberg\, 88512\, Deutschland
CATEGORIES:Mengen
END:VEVENT
BEGIN:VEVENT
DTSTART;TZID=Europe/Berlin:20270114T100000
DTEND;TZID=Europe/Berlin:20270114T173000
DTSTAMP:20260422T005056
CREATED:20240409T060143Z
LAST-MODIFIED:20251201T062630Z
UID:10002487-1799920800-1799947800@menschenraeume.de
SUMMARY:Begegnungstreff Café Brauchbar
DESCRIPTION:Gespräche und Begegnungen\, Kreativität und Engagement\, Beratung\, Kinderspielecke. \nDi.\, 14.00 bis 17.30 Uhr Kaffee und Kuchen \nMi. und Do.\,  10.00 bis 17.30 Uhr Brezeln\, Tagessuppe\, Kaffee und Kuchen \nMenschenRäume\, Meßkircher Str. 2 (ehemals BiBo)\, Mengen
URL:https://menschenraeume.de/termin/begegnungstreff-cafe-brauchbar-3/2027-01-14/
LOCATION:Mengen\, Café Brauchbar\, Messkircher Str. 2\, Mengen\, Baden-Württemberg\, 88512\, Deutschland
CATEGORIES:Mengen
END:VEVENT
BEGIN:VEVENT
DTSTART;TZID=Europe/Berlin:20270114T180000
DTEND;TZID=Europe/Berlin:20270114T200000
DTSTAMP:20260422T005056
CREATED:20260414T122432Z
LAST-MODIFIED:20260414T122620Z
UID:10005241-1799949600-1799956800@menschenraeume.de
SUMMARY:Radfreunde Luag ins Land
DESCRIPTION:Hallo liebe Radfreunde aus Beuren und Umgebung\, wir treffen uns an der Bushaltestelle Beuren\, wo wir gemeinsam entscheiden\, welche Tour wir heute fahren. Es wird wieder eine etwas 20 km lange und\ngemütliche Runde geben\, bei der alle genug Puste zum Quatschen haben werden.
URL:https://menschenraeume.de/termin/radfreunde-luag-ins-land-2/2027-01-14/
LOCATION:Beuren\, Bushaltestelle
CATEGORIES:Beuren
END:VEVENT
BEGIN:VEVENT
DTSTART;TZID=Europe/Berlin:20270115T143000
DTEND;TZID=Europe/Berlin:20270115T180000
DTSTAMP:20260422T005056
CREATED:20221206T182342Z
LAST-MODIFIED:20260326T144840Z
UID:10000389-1800023400-1800036000@menschenraeume.de
SUMMARY:Offener Kaffeetreff Blochingen
DESCRIPTION:Genießt einen gemütlichen Nachmittag bei Kaffee\, Tee und selbstgebackenem Kuchen. Für alle Spielefans haben wir eine große Auswahl an Gesellschaftsspielen anzubieten. \nMehrgenerationentreff Blochingen\, Greutleweg 24\, 88512 Blochingen
URL:https://menschenraeume.de/termin/offener-kaffeetreff-blochingen-30052023/2027-01-15/
LOCATION:Blochingen\, Mehrgenerationentreff\, Greutleweg 24\, Blochingen\, 88512
CATEGORIES:Blochingen
END:VEVENT
BEGIN:VEVENT
DTSTART;TZID=Europe/Berlin:20270119T140000
DTEND;TZID=Europe/Berlin:20270119T173000
DTSTAMP:20260422T005056
CREATED:20240409T055821Z
LAST-MODIFIED:20251201T062443Z
UID:10001967-1800367200-1800379800@menschenraeume.de
SUMMARY:Begegnungstreff Café Brauchbar
DESCRIPTION:Gespräche und Begegnungen\, Kreativität und Engagement\, Beratung\, Kinderspielecke. \nDi.\, 14.00 bis 17.30 Uhr Kaffee und Kuchen \nMi. und Do.\,  10.00 bis 17.30 Uhr Brezeln\, Tagessuppe\, Kaffee und Kuchen \nMenschenRäume\, Meßkircher Str. 2 (ehemals BiBo)\, Mengen
URL:https://menschenraeume.de/termin/begegnungstreff-cafe-brauchbar/2027-01-19/
LOCATION:Mengen\, Café Brauchbar\, Messkircher Str. 2\, Mengen\, Baden-Württemberg\, 88512\, Deutschland
CATEGORIES:Mengen
END:VEVENT
BEGIN:VEVENT
DTSTART;TZID=Europe/Berlin:20270119T143000
DTEND;TZID=Europe/Berlin:20270119T153000
DTSTAMP:20260422T005056
CREATED:20250317T140349Z
LAST-MODIFIED:20251201T062749Z
UID:10004301-1800369000-1800372600@menschenraeume.de
SUMMARY:TV Mengen 1863 e. V. - Sprechstunde
DESCRIPTION:Ab Mai bietet der TV Mengen im Café Brauchbar eine wöchentliche Sprechstunde für Mitglieder und Interessierte an. \nCafé Brauchbar\, Meßkircher Str. 2 (ehemals BiBo)\, Mengen \nBarrierefrei: Aufzug über Seiteneingang (Praxis Maderner)
URL:https://menschenraeume.de/termin/tv-mengen-sprechstunde-2/2027-01-19/
LOCATION:Mengen\, Café Brauchbar\, Messkircher Str. 2\, Mengen\, Baden-Württemberg\, 88512\, Deutschland
CATEGORIES:Mengen
END:VEVENT
BEGIN:VEVENT
DTSTART;TZID=Europe/Berlin:20270120T100000
DTEND;TZID=Europe/Berlin:20270120T173000
DTSTAMP:20260422T005056
CREATED:20240409T060104Z
LAST-MODIFIED:20251201T062547Z
UID:10002228-1800439200-1800466200@menschenraeume.de
SUMMARY:Begegnungstreff Café Brauchbar
DESCRIPTION:Gespräche und Begegnungen\, Kreativität und Engagement\, Beratung\, Kinderspielecke. \nDi.\, 14.00 bis 17.30 Uhr Kaffee und Kuchen \nMi. und Do.\,  10.00 bis 17.30 Uhr Brezeln\, Tagessuppe\, Kaffee und Kuchen \nMenschenRäume\, Meßkircher Str. 2 (ehemals BiBo)\, Mengen
URL:https://menschenraeume.de/termin/begegnungstreff-cafe-brauchbar-2/2027-01-20/
LOCATION:Mengen\, Café Brauchbar\, Messkircher Str. 2\, Mengen\, Baden-Württemberg\, 88512\, Deutschland
CATEGORIES:Mengen
END:VEVENT
BEGIN:VEVENT
DTSTART;TZID=Europe/Berlin:20270120T101500
DTEND;TZID=Europe/Berlin:20270120T114500
DTSTAMP:20260422T005056
CREATED:20240924T150032Z
LAST-MODIFIED:20251201T061928Z
UID:10003558-1800440100-1800445500@menschenraeume.de
SUMMARY:Sprach-Café
DESCRIPTION:Das Sprach-Café ist kostenlos\, kann ohne Voranmeldung besucht werden und bietet einen leichten Einstieg in die deutsche Sprache an.
URL:https://menschenraeume.de/termin/sprach-cafe/2027-01-20/
LOCATION:Mengen\, Café Brauchbar\, Messkircher Str. 2\, Mengen\, Baden-Württemberg\, 88512\, Deutschland
CATEGORIES:Mengen
END:VEVENT
BEGIN:VEVENT
DTSTART;TZID=Europe/Berlin:20270121T100000
DTEND;TZID=Europe/Berlin:20270121T173000
DTSTAMP:20260422T005056
CREATED:20240409T060143Z
LAST-MODIFIED:20251201T062630Z
UID:10002488-1800525600-1800552600@menschenraeume.de
SUMMARY:Begegnungstreff Café Brauchbar
DESCRIPTION:Gespräche und Begegnungen\, Kreativität und Engagement\, Beratung\, Kinderspielecke. \nDi.\, 14.00 bis 17.30 Uhr Kaffee und Kuchen \nMi. und Do.\,  10.00 bis 17.30 Uhr Brezeln\, Tagessuppe\, Kaffee und Kuchen \nMenschenRäume\, Meßkircher Str. 2 (ehemals BiBo)\, Mengen
URL:https://menschenraeume.de/termin/begegnungstreff-cafe-brauchbar-3/2027-01-21/
LOCATION:Mengen\, Café Brauchbar\, Messkircher Str. 2\, Mengen\, Baden-Württemberg\, 88512\, Deutschland
CATEGORIES:Mengen
END:VEVENT
BEGIN:VEVENT
DTSTART;TZID=Europe/Berlin:20270122T143000
DTEND;TZID=Europe/Berlin:20270122T180000
DTSTAMP:20260422T005056
CREATED:20221206T182342Z
LAST-MODIFIED:20260326T144840Z
UID:10000390-1800628200-1800640800@menschenraeume.de
SUMMARY:Offener Kaffeetreff Blochingen
DESCRIPTION:Genießt einen gemütlichen Nachmittag bei Kaffee\, Tee und selbstgebackenem Kuchen. Für alle Spielefans haben wir eine große Auswahl an Gesellschaftsspielen anzubieten. \nMehrgenerationentreff Blochingen\, Greutleweg 24\, 88512 Blochingen
URL:https://menschenraeume.de/termin/offener-kaffeetreff-blochingen-30052023/2027-01-22/
LOCATION:Blochingen\, Mehrgenerationentreff\, Greutleweg 24\, Blochingen\, 88512
CATEGORIES:Blochingen
END:VEVENT
BEGIN:VEVENT
DTSTART;TZID=Europe/Berlin:20270126T140000
DTEND;TZID=Europe/Berlin:20270126T173000
DTSTAMP:20260422T005056
CREATED:20240409T055821Z
LAST-MODIFIED:20251201T062443Z
UID:10001968-1800972000-1800984600@menschenraeume.de
SUMMARY:Begegnungstreff Café Brauchbar
DESCRIPTION:Gespräche und Begegnungen\, Kreativität und Engagement\, Beratung\, Kinderspielecke. \nDi.\, 14.00 bis 17.30 Uhr Kaffee und Kuchen \nMi. und Do.\,  10.00 bis 17.30 Uhr Brezeln\, Tagessuppe\, Kaffee und Kuchen \nMenschenRäume\, Meßkircher Str. 2 (ehemals BiBo)\, Mengen
URL:https://menschenraeume.de/termin/begegnungstreff-cafe-brauchbar/2027-01-26/
LOCATION:Mengen\, Café Brauchbar\, Messkircher Str. 2\, Mengen\, Baden-Württemberg\, 88512\, Deutschland
CATEGORIES:Mengen
END:VEVENT
BEGIN:VEVENT
DTSTART;TZID=Europe/Berlin:20270126T143000
DTEND;TZID=Europe/Berlin:20270126T153000
DTSTAMP:20260422T005056
CREATED:20250317T140349Z
LAST-MODIFIED:20251201T062749Z
UID:10004302-1800973800-1800977400@menschenraeume.de
SUMMARY:TV Mengen 1863 e. V. - Sprechstunde
DESCRIPTION:Ab Mai bietet der TV Mengen im Café Brauchbar eine wöchentliche Sprechstunde für Mitglieder und Interessierte an. \nCafé Brauchbar\, Meßkircher Str. 2 (ehemals BiBo)\, Mengen \nBarrierefrei: Aufzug über Seiteneingang (Praxis Maderner)
URL:https://menschenraeume.de/termin/tv-mengen-sprechstunde-2/2027-01-26/
LOCATION:Mengen\, Café Brauchbar\, Messkircher Str. 2\, Mengen\, Baden-Württemberg\, 88512\, Deutschland
CATEGORIES:Mengen
END:VEVENT
BEGIN:VEVENT
DTSTART;TZID=Europe/Berlin:20270127T100000
DTEND;TZID=Europe/Berlin:20270127T173000
DTSTAMP:20260422T005056
CREATED:20240409T060104Z
LAST-MODIFIED:20251201T062547Z
UID:10002229-1801044000-1801071000@menschenraeume.de
SUMMARY:Begegnungstreff Café Brauchbar
DESCRIPTION:Gespräche und Begegnungen\, Kreativität und Engagement\, Beratung\, Kinderspielecke. \nDi.\, 14.00 bis 17.30 Uhr Kaffee und Kuchen \nMi. und Do.\,  10.00 bis 17.30 Uhr Brezeln\, Tagessuppe\, Kaffee und Kuchen \nMenschenRäume\, Meßkircher Str. 2 (ehemals BiBo)\, Mengen
URL:https://menschenraeume.de/termin/begegnungstreff-cafe-brauchbar-2/2027-01-27/
LOCATION:Mengen\, Café Brauchbar\, Messkircher Str. 2\, Mengen\, Baden-Württemberg\, 88512\, Deutschland
CATEGORIES:Mengen
END:VEVENT
BEGIN:VEVENT
DTSTART;TZID=Europe/Berlin:20270127T101500
DTEND;TZID=Europe/Berlin:20270127T114500
DTSTAMP:20260422T005056
CREATED:20240924T150032Z
LAST-MODIFIED:20251201T061928Z
UID:10003559-1801044900-1801050300@menschenraeume.de
SUMMARY:Sprach-Café
DESCRIPTION:Das Sprach-Café ist kostenlos\, kann ohne Voranmeldung besucht werden und bietet einen leichten Einstieg in die deutsche Sprache an.
URL:https://menschenraeume.de/termin/sprach-cafe/2027-01-27/
LOCATION:Mengen\, Café Brauchbar\, Messkircher Str. 2\, Mengen\, Baden-Württemberg\, 88512\, Deutschland
CATEGORIES:Mengen
END:VEVENT
BEGIN:VEVENT
DTSTART;TZID=Europe/Berlin:20270128T100000
DTEND;TZID=Europe/Berlin:20270128T173000
DTSTAMP:20260422T005056
CREATED:20240409T060143Z
LAST-MODIFIED:20251201T062630Z
UID:10002489-1801130400-1801157400@menschenraeume.de
SUMMARY:Begegnungstreff Café Brauchbar
DESCRIPTION:Gespräche und Begegnungen\, Kreativität und Engagement\, Beratung\, Kinderspielecke. \nDi.\, 14.00 bis 17.30 Uhr Kaffee und Kuchen \nMi. und Do.\,  10.00 bis 17.30 Uhr Brezeln\, Tagessuppe\, Kaffee und Kuchen \nMenschenRäume\, Meßkircher Str. 2 (ehemals BiBo)\, Mengen
URL:https://menschenraeume.de/termin/begegnungstreff-cafe-brauchbar-3/2027-01-28/
LOCATION:Mengen\, Café Brauchbar\, Messkircher Str. 2\, Mengen\, Baden-Württemberg\, 88512\, Deutschland
CATEGORIES:Mengen
END:VEVENT
BEGIN:VEVENT
DTSTART;TZID=Europe/Berlin:20270128T180000
DTEND;TZID=Europe/Berlin:20270128T200000
DTSTAMP:20260422T005056
CREATED:20260414T122432Z
LAST-MODIFIED:20260414T122620Z
UID:10005242-1801159200-1801166400@menschenraeume.de
SUMMARY:Radfreunde Luag ins Land
DESCRIPTION:Hallo liebe Radfreunde aus Beuren und Umgebung\, wir treffen uns an der Bushaltestelle Beuren\, wo wir gemeinsam entscheiden\, welche Tour wir heute fahren. Es wird wieder eine etwas 20 km lange und\ngemütliche Runde geben\, bei der alle genug Puste zum Quatschen haben werden.
URL:https://menschenraeume.de/termin/radfreunde-luag-ins-land-2/2027-01-28/
LOCATION:Beuren\, Bushaltestelle
CATEGORIES:Beuren
END:VEVENT
BEGIN:VEVENT
DTSTART;TZID=Europe/Berlin:20270129T143000
DTEND;TZID=Europe/Berlin:20270129T180000
DTSTAMP:20260422T005056
CREATED:20221206T182342Z
LAST-MODIFIED:20260326T144840Z
UID:10000391-1801233000-1801245600@menschenraeume.de
SUMMARY:Offener Kaffeetreff Blochingen
DESCRIPTION:Genießt einen gemütlichen Nachmittag bei Kaffee\, Tee und selbstgebackenem Kuchen. Für alle Spielefans haben wir eine große Auswahl an Gesellschaftsspielen anzubieten. \nMehrgenerationentreff Blochingen\, Greutleweg 24\, 88512 Blochingen
URL:https://menschenraeume.de/termin/offener-kaffeetreff-blochingen-30052023/2027-01-29/
LOCATION:Blochingen\, Mehrgenerationentreff\, Greutleweg 24\, Blochingen\, 88512
CATEGORIES:Blochingen
END:VEVENT
BEGIN:VEVENT
DTSTART;TZID=Europe/Berlin:20270202T140000
DTEND;TZID=Europe/Berlin:20270202T173000
DTSTAMP:20260422T005056
CREATED:20240409T055821Z
LAST-MODIFIED:20251201T062443Z
UID:10001969-1801576800-1801589400@menschenraeume.de
SUMMARY:Begegnungstreff Café Brauchbar
DESCRIPTION:Gespräche und Begegnungen\, Kreativität und Engagement\, Beratung\, Kinderspielecke. \nDi.\, 14.00 bis 17.30 Uhr Kaffee und Kuchen \nMi. und Do.\,  10.00 bis 17.30 Uhr Brezeln\, Tagessuppe\, Kaffee und Kuchen \nMenschenRäume\, Meßkircher Str. 2 (ehemals BiBo)\, Mengen
URL:https://menschenraeume.de/termin/begegnungstreff-cafe-brauchbar/2027-02-02/
LOCATION:Mengen\, Café Brauchbar\, Messkircher Str. 2\, Mengen\, Baden-Württemberg\, 88512\, Deutschland
CATEGORIES:Mengen
END:VEVENT
BEGIN:VEVENT
DTSTART;TZID=Europe/Berlin:20270202T143000
DTEND;TZID=Europe/Berlin:20270202T153000
DTSTAMP:20260422T005056
CREATED:20250317T140349Z
LAST-MODIFIED:20251201T062749Z
UID:10004303-1801578600-1801582200@menschenraeume.de
SUMMARY:TV Mengen 1863 e. V. - Sprechstunde
DESCRIPTION:Ab Mai bietet der TV Mengen im Café Brauchbar eine wöchentliche Sprechstunde für Mitglieder und Interessierte an. \nCafé Brauchbar\, Meßkircher Str. 2 (ehemals BiBo)\, Mengen \nBarrierefrei: Aufzug über Seiteneingang (Praxis Maderner)
URL:https://menschenraeume.de/termin/tv-mengen-sprechstunde-2/2027-02-02/
LOCATION:Mengen\, Café Brauchbar\, Messkircher Str. 2\, Mengen\, Baden-Württemberg\, 88512\, Deutschland
CATEGORIES:Mengen
END:VEVENT
BEGIN:VEVENT
DTSTART;TZID=Europe/Berlin:20270203T100000
DTEND;TZID=Europe/Berlin:20270203T173000
DTSTAMP:20260422T005056
CREATED:20240409T060104Z
LAST-MODIFIED:20251201T062547Z
UID:10002230-1801648800-1801675800@menschenraeume.de
SUMMARY:Begegnungstreff Café Brauchbar
DESCRIPTION:Gespräche und Begegnungen\, Kreativität und Engagement\, Beratung\, Kinderspielecke. \nDi.\, 14.00 bis 17.30 Uhr Kaffee und Kuchen \nMi. und Do.\,  10.00 bis 17.30 Uhr Brezeln\, Tagessuppe\, Kaffee und Kuchen \nMenschenRäume\, Meßkircher Str. 2 (ehemals BiBo)\, Mengen
URL:https://menschenraeume.de/termin/begegnungstreff-cafe-brauchbar-2/2027-02-03/
LOCATION:Mengen\, Café Brauchbar\, Messkircher Str. 2\, Mengen\, Baden-Württemberg\, 88512\, Deutschland
CATEGORIES:Mengen
END:VEVENT
BEGIN:VEVENT
DTSTART;TZID=Europe/Berlin:20270203T101500
DTEND;TZID=Europe/Berlin:20270203T114500
DTSTAMP:20260422T005056
CREATED:20240924T150032Z
LAST-MODIFIED:20251201T061928Z
UID:10003560-1801649700-1801655100@menschenraeume.de
SUMMARY:Sprach-Café
DESCRIPTION:Das Sprach-Café ist kostenlos\, kann ohne Voranmeldung besucht werden und bietet einen leichten Einstieg in die deutsche Sprache an.
URL:https://menschenraeume.de/termin/sprach-cafe/2027-02-03/
LOCATION:Mengen\, Café Brauchbar\, Messkircher Str. 2\, Mengen\, Baden-Württemberg\, 88512\, Deutschland
CATEGORIES:Mengen
END:VEVENT
BEGIN:VEVENT
DTSTART;TZID=Europe/Berlin:20270204T100000
DTEND;TZID=Europe/Berlin:20270204T173000
DTSTAMP:20260422T005056
CREATED:20240409T060143Z
LAST-MODIFIED:20251201T062630Z
UID:10002490-1801735200-1801762200@menschenraeume.de
SUMMARY:Begegnungstreff Café Brauchbar
DESCRIPTION:Gespräche und Begegnungen\, Kreativität und Engagement\, Beratung\, Kinderspielecke. \nDi.\, 14.00 bis 17.30 Uhr Kaffee und Kuchen \nMi. und Do.\,  10.00 bis 17.30 Uhr Brezeln\, Tagessuppe\, Kaffee und Kuchen \nMenschenRäume\, Meßkircher Str. 2 (ehemals BiBo)\, Mengen
URL:https://menschenraeume.de/termin/begegnungstreff-cafe-brauchbar-3/2027-02-04/
LOCATION:Mengen\, Café Brauchbar\, Messkircher Str. 2\, Mengen\, Baden-Württemberg\, 88512\, Deutschland
CATEGORIES:Mengen
END:VEVENT
BEGIN:VEVENT
DTSTART;TZID=Europe/Berlin:20270205T143000
DTEND;TZID=Europe/Berlin:20270205T180000
DTSTAMP:20260422T005056
CREATED:20221206T182342Z
LAST-MODIFIED:20260326T144840Z
UID:10000392-1801837800-1801850400@menschenraeume.de
SUMMARY:Offener Kaffeetreff Blochingen
DESCRIPTION:Genießt einen gemütlichen Nachmittag bei Kaffee\, Tee und selbstgebackenem Kuchen. Für alle Spielefans haben wir eine große Auswahl an Gesellschaftsspielen anzubieten. \nMehrgenerationentreff Blochingen\, Greutleweg 24\, 88512 Blochingen
URL:https://menschenraeume.de/termin/offener-kaffeetreff-blochingen-30052023/2027-02-05/
LOCATION:Blochingen\, Mehrgenerationentreff\, Greutleweg 24\, Blochingen\, 88512
CATEGORIES:Blochingen
END:VEVENT
BEGIN:VEVENT
DTSTART;TZID=Europe/Berlin:20270209T140000
DTEND;TZID=Europe/Berlin:20270209T173000
DTSTAMP:20260422T005056
CREATED:20240409T055821Z
LAST-MODIFIED:20251201T062443Z
UID:10001970-1802181600-1802194200@menschenraeume.de
SUMMARY:Begegnungstreff Café Brauchbar
DESCRIPTION:Gespräche und Begegnungen\, Kreativität und Engagement\, Beratung\, Kinderspielecke. \nDi.\, 14.00 bis 17.30 Uhr Kaffee und Kuchen \nMi. und Do.\,  10.00 bis 17.30 Uhr Brezeln\, Tagessuppe\, Kaffee und Kuchen \nMenschenRäume\, Meßkircher Str. 2 (ehemals BiBo)\, Mengen
URL:https://menschenraeume.de/termin/begegnungstreff-cafe-brauchbar/2027-02-09/
LOCATION:Mengen\, Café Brauchbar\, Messkircher Str. 2\, Mengen\, Baden-Württemberg\, 88512\, Deutschland
CATEGORIES:Mengen
END:VEVENT
BEGIN:VEVENT
DTSTART;TZID=Europe/Berlin:20270209T143000
DTEND;TZID=Europe/Berlin:20270209T153000
DTSTAMP:20260422T005056
CREATED:20250317T140349Z
LAST-MODIFIED:20251201T062749Z
UID:10004304-1802183400-1802187000@menschenraeume.de
SUMMARY:TV Mengen 1863 e. V. - Sprechstunde
DESCRIPTION:Ab Mai bietet der TV Mengen im Café Brauchbar eine wöchentliche Sprechstunde für Mitglieder und Interessierte an. \nCafé Brauchbar\, Meßkircher Str. 2 (ehemals BiBo)\, Mengen \nBarrierefrei: Aufzug über Seiteneingang (Praxis Maderner)
URL:https://menschenraeume.de/termin/tv-mengen-sprechstunde-2/2027-02-09/
LOCATION:Mengen\, Café Brauchbar\, Messkircher Str. 2\, Mengen\, Baden-Württemberg\, 88512\, Deutschland
CATEGORIES:Mengen
END:VEVENT
END:VCALENDAR